BEGIN:VCALENDAR
VERSION:2.0
PRODID:-//Apple Inc.//iCal 5.0.2//EN
CALSCALE:GREGORIAN
BEGIN:VTIMEZONE
TZID:Australia/
BEGIN:STANDARD
TZOFFSETFROM:+1100
RRULE:FREQ=YEARLY;BYMONTH=4;BYDAY=1SU
DTSTART:20080406T030000
TZNAME:
TZOFFSETTO:+
END:STANDARD
BEGIN:DAYLIGHT
TZOFFSETFROM:+
RRULE:FREQ=YEARLY;BYMONTH=10;BYDAY=1SU
DTSTART:20081005T020000
TZNAME:AEDT
TZOFFSETTO:+1100
END:DAYLIGHT
END:VTIMEZONE
BEGIN:VEVENT
CREATED:20260425T024250
UID:Property78123Inspection51691394
DTEND;TZID=Australia/:19700101T000000
TRANSP:OPAQUE
SUMMARY:Open For Inspection: 5/16 English Street, MACKAY
DESCRIPTION:TWO BEDROOM UNIT - Spacious split level  2 bedroom unit with floor coverings and blinds. Includes built-in to bedroom 1, air-conditioning to living area, screens throughout with  carpet in lounge and a cosy  kitchen. Close to sporting grounds, shops and schools, within walking distance to Harrup Park Country Club. Small pet allowed.

Disclaimer; The Agent does not give any warranty as to errors or omissions, if any, in these particulars, which they believe to be accurate when compiled.
LAST-MODIFIED:20260425T024250
DTSTAMP:20260425T024250
DTSTART;TZID=Australia/:19700101T100000
LOCATION:5/16 English Street MACKAY QLD 4740
URL:http://www.hughreilly.com.au/78123
SEQUENCE:0
END:VEVENT
END:VCALENDAR
