BEGIN:VCALENDAR
VERSION:2.0
PRODID:-//Apple Inc.//iCal 5.0.2//EN
CALSCALE:GREGORIAN
BEGIN:VTIMEZONE
TZID:Australia/
BEGIN:STANDARD
TZOFFSETFROM:+1100
RRULE:FREQ=YEARLY;BYMONTH=4;BYDAY=1SU
DTSTART:20080406T030000
TZNAME:
TZOFFSETTO:+
END:STANDARD
BEGIN:DAYLIGHT
TZOFFSETFROM:+
RRULE:FREQ=YEARLY;BYMONTH=10;BYDAY=1SU
DTSTART:20081005T020000
TZNAME:AEDT
TZOFFSETTO:+1100
END:DAYLIGHT
END:VTIMEZONE
BEGIN:VEVENT
CREATED:20260425T024327
UID:Property2622763Inspection51691397
DTEND;TZID=Australia/:19700101T000000
TRANSP:OPAQUE
SUMMARY:Open For Inspection: 9/107 Shakespeare Street, Mackay
DESCRIPTION:MODERN UNIT WITH AIR CONDITIONING - This Well Presented fully renovated unit offers the perfect location with the CBD just minutes away, the property offers 2 good sized bedrooms with built ins, ceiling fans and screens through out, living area is air-conditioned with white tiles easy for cleaning, fenced private courtyard and a lock up garage. Within walking distance to shops and schools. No water costs and yard maintained.

Disclaimer; The Agent does not give any warranty as to errors or omissions, if any, in these particulars, which they believe to be accurate when compiled.
LAST-MODIFIED:20260425T024327
DTSTAMP:20260425T024327
DTSTART;TZID=Australia/:19700101T100000
LOCATION:9/107 Shakespeare Street Mackay QLD 4740
URL:http://www.hughreilly.com.au/2622763
SEQUENCE:0
END:VEVENT
END:VCALENDAR
