BEGIN:VCALENDAR
VERSION:2.0
PRODID:-//Apple Inc.//iCal 5.0.2//EN
CALSCALE:GREGORIAN
BEGIN:VTIMEZONE
TZID:Australia/
BEGIN:STANDARD
TZOFFSETFROM:+1100
RRULE:FREQ=YEARLY;BYMONTH=4;BYDAY=1SU
DTSTART:20080406T030000
TZNAME:
TZOFFSETTO:+
END:STANDARD
BEGIN:DAYLIGHT
TZOFFSETFROM:+
RRULE:FREQ=YEARLY;BYMONTH=10;BYDAY=1SU
DTSTART:20081005T020000
TZNAME:AEDT
TZOFFSETTO:+1100
END:DAYLIGHT
END:VTIMEZONE
BEGIN:VEVENT
CREATED:20260425T023944
UID:Property184258Inspection51691404
DTEND;TZID=Australia/:19700101T000000
TRANSP:OPAQUE
SUMMARY:Open For Inspection: 11 Paton Terrace, SLADE POINT
DESCRIPTION:Close to the beach - This quaint little property is close to the beach and consists of the following:

* Lowset
* 3 bedrooms all with airconditioning
* Built in wardrobe in main bedroom
* Free standing wardrobes in other 2 bedrooms
* Airconditioning to living areas
* Fans
* Security screens
* Security doors
* Front patio
* Back patio
* Small storage room
* Single carport
* Fenced back yard

Tenant is responsible for all service connections and excess water. No smoking inside house. 




LAST-MODIFIED:20260425T023944
DTSTAMP:20260425T023944
DTSTART;TZID=Australia/:19700101T100000
LOCATION:11 Paton Terrace SLADE POINT QLD 4740
URL:http://www.hughreilly.com.au/184258
SEQUENCE:0
END:VEVENT
END:VCALENDAR
