BEGIN:VCALENDAR
VERSION:2.0
PRODID:-//Apple Inc.//iCal 5.0.2//EN
CALSCALE:GREGORIAN
BEGIN:VTIMEZONE
TZID:Australia/
BEGIN:STANDARD
TZOFFSETFROM:+1100
RRULE:FREQ=YEARLY;BYMONTH=4;BYDAY=1SU
DTSTART:20080406T030000
TZNAME:
TZOFFSETTO:+
END:STANDARD
BEGIN:DAYLIGHT
TZOFFSETFROM:+
RRULE:FREQ=YEARLY;BYMONTH=10;BYDAY=1SU
DTSTART:20081005T020000
TZNAME:AEDT
TZOFFSETTO:+1100
END:DAYLIGHT
END:VTIMEZONE
BEGIN:VEVENT
CREATED:20260425T024031
UID:Property11411583Inspection51691411
DTEND;TZID=Australia/:19700101T000000
TRANSP:OPAQUE
SUMMARY:Open For Inspection: 19 Tamron Drive, MOUNT PLEASANT
DESCRIPTION:TOP QUALITY HOME IN PRIME LOCATION - This well maintained home located in Mount Pleasant has schools, shops and sporting fields within walking distance. The fully air conditioned property is complete with four bedrooms, all with built-ins, the main with a walk in robe and ultra modern ensuite. Main bathroom has separate shower and bathtub, and is of superior quality. The fully equipped modern kitchen and open plan living and dining areas open onto the outdoor covered entertainment area and are perfect for entertaining family and friends. The house has fans throughout and is fully screened and fenced. This impeccably built home is only a short drive from all that Mackay has to offer. No dogs, other pets on application. *Tenant responsible for all water*. Contact our office today to arrange a viewing. 

Disclaimer; The Agent does not give any warranty as to errors or omissions, if any, in these particulars, which they believe to be accurate when compiled.
LAST-MODIFIED:20260425T024031
DTSTAMP:20260425T024031
DTSTART;TZID=Australia/:19700101T100000
LOCATION:19 Tamron Drive MOUNT PLEASANT QLD 4740
URL:http://www.hughreilly.com.au/11411583
SEQUENCE:0
END:VEVENT
END:VCALENDAR
