BEGIN:VCALENDAR
VERSION:2.0
PRODID:-//Apple Inc.//iCal 5.0.2//EN
CALSCALE:GREGORIAN
BEGIN:VTIMEZONE
TZID:Australia/
BEGIN:STANDARD
TZOFFSETFROM:+1100
RRULE:FREQ=YEARLY;BYMONTH=4;BYDAY=1SU
DTSTART:20080406T030000
TZNAME:
TZOFFSETTO:+
END:STANDARD
BEGIN:DAYLIGHT
TZOFFSETFROM:+
RRULE:FREQ=YEARLY;BYMONTH=10;BYDAY=1SU
DTSTART:20081005T020000
TZNAME:AEDT
TZOFFSETTO:+1100
END:DAYLIGHT
END:VTIMEZONE
BEGIN:VEVENT
CREATED:20260425T023954
UID:Property3611022Inspection51691412
DTEND;TZID=Australia/:19700101T000000
TRANSP:OPAQUE
SUMMARY:Open For Inspection: 2a Absy Court, GLENELLA
DESCRIPTION:Newly painted with new window furnishings - This four bedroom brick home is located in Glenella on a good sized block and is close to shops and schools and large playground. The main bedroom has airconditioning a walk in wardrobe and an ensuite. 2 other bedrooms have built in wardrobes with one other bedroom having airconditioning. Fans. Security screen doors and flyscreens.  Airconditioned living areas. Covered entertaining area. Double lock up garage. Fenced back yard. No smoking inside property. Tenants are responsible for all service connections and excess water usage.




LAST-MODIFIED:20260425T023954
DTSTAMP:20260425T023954
DTSTART;TZID=Australia/:19700101T100000
LOCATION:2a Absy Court GLENELLA QLD 4740
URL:http://www.hughreilly.com.au/3611022
SEQUENCE:0
END:VEVENT
END:VCALENDAR
