BEGIN:VCALENDAR
VERSION:2.0
PRODID:-//Apple Inc.//iCal 5.0.2//EN
CALSCALE:GREGORIAN
BEGIN:VTIMEZONE
TZID:Australia/
BEGIN:STANDARD
TZOFFSETFROM:+1100
RRULE:FREQ=YEARLY;BYMONTH=4;BYDAY=1SU
DTSTART:20080406T030000
TZNAME:
TZOFFSETTO:+
END:STANDARD
BEGIN:DAYLIGHT
TZOFFSETFROM:+
RRULE:FREQ=YEARLY;BYMONTH=10;BYDAY=1SU
DTSTART:20081005T020000
TZNAME:AEDT
TZOFFSETTO:+1100
END:DAYLIGHT
END:VTIMEZONE
BEGIN:VEVENT
CREATED:20260425T023944
UID:Property19619295Inspection51691421
DTEND;TZID=Australia/:19700101T000000
TRANSP:OPAQUE
SUMMARY:Open For Inspection: 26 Kinnon Street, GLENELLA
DESCRIPTION:LARGE HOME IN GLENELLA WITH POOL - This four bedroom large family home is located on a hill in the popular Glenella suburb. The property features four good sized bedrooms - three with air conditioning, three bathrooms, kitchen with a dishwasher, ceiling fans, security screens and an air conditioned family room which overlooks the in-ground pool. There is also a undercover entertaining area and three car spaces within this fenced yard - suitable for a pet upon application. Located close to sporting fields, schools and Magpies, this property will not last long! 

Disclaimer; The Agent does not give any warranty as to errors or omissions, if any, in these particulars, which they believe to be accurate when compiled.
LAST-MODIFIED:20260425T023944
DTSTAMP:20260425T023944
DTSTART;TZID=Australia/:19700101T100000
LOCATION:26 Kinnon Street GLENELLA QLD 4740
URL:http://www.hughreilly.com.au/19619295
SEQUENCE:0
END:VEVENT
END:VCALENDAR
