BEGIN:VCALENDAR
VERSION:2.0
PRODID:-//Apple Inc.//iCal 5.0.2//EN
CALSCALE:GREGORIAN
BEGIN:VTIMEZONE
TZID:Australia/
BEGIN:STANDARD
TZOFFSETFROM:+1100
RRULE:FREQ=YEARLY;BYMONTH=4;BYDAY=1SU
DTSTART:20080406T030000
TZNAME:
TZOFFSETTO:+
END:STANDARD
BEGIN:DAYLIGHT
TZOFFSETFROM:+
RRULE:FREQ=YEARLY;BYMONTH=10;BYDAY=1SU
DTSTART:20081005T020000
TZNAME:AEDT
TZOFFSETTO:+1100
END:DAYLIGHT
END:VTIMEZONE
BEGIN:VEVENT
CREATED:20260425T024250
UID:Property7444073Inspection51691422
DTEND;TZID=Australia/:19700101T000000
TRANSP:OPAQUE
SUMMARY:Open For Inspection: 2/19 Knight St, MOUNT PLEASANT
DESCRIPTION:AIR CONDITIONED DUPLEX - This neat and tidy two bedroom lowset duplex offers air-conditioning to the living area and main bedroom and features security screens & fans throughout, There is an open plan lounge dining area, internal laundry and a good sized kitchen. The location of this duplex is in a convenient location close to schools and shopping centre. Small pet considered.All yard maintenance is included .

Disclaimer; The Agent does not give any warranty as to errors or omissions, if any, in these particulars, which they believe to be accurate when compiled.


LAST-MODIFIED:20260425T024250
DTSTAMP:20260425T024250
DTSTART;TZID=Australia/:19700101T100000
LOCATION:2/19 Knight St MOUNT PLEASANT QLD 4740
URL:http://www.hughreilly.com.au/7444073
SEQUENCE:0
END:VEVENT
END:VCALENDAR
