BEGIN:VCALENDAR
VERSION:2.0
PRODID:-//Apple Inc.//iCal 5.0.2//EN
CALSCALE:GREGORIAN
BEGIN:VTIMEZONE
TZID:Australia/
BEGIN:STANDARD
TZOFFSETFROM:+1100
RRULE:FREQ=YEARLY;BYMONTH=4;BYDAY=1SU
DTSTART:20080406T030000
TZNAME:
TZOFFSETTO:+
END:STANDARD
BEGIN:DAYLIGHT
TZOFFSETFROM:+
RRULE:FREQ=YEARLY;BYMONTH=10;BYDAY=1SU
DTSTART:20081005T020000
TZNAME:AEDT
TZOFFSETTO:+1100
END:DAYLIGHT
END:VTIMEZONE
BEGIN:VEVENT
CREATED:20260425T015511
UID:Property20372394Inspection52746057
DTEND;TZID=Australia/:20200229T123000
TRANSP:OPAQUE
SUMMARY:Open For Inspection: 3 37 West Street, North Sydney
DESCRIPTION:Exec Furnished  One Bedroom Apartment - Parking - Open Sat 12 - 12.30 pm  or Inspect by Appointment 
Property tenanted.

Renovated Fully Furnished one bedroom apartment to be sold fully furnished. Parking. 
Close to North Sydney CBD, Trains, Shopping Malls and Restaurants.

Ideal investment for self managed super fund or first home buyer.

Rent Income ( $500 - $550 per week )
Strata Levy   $885 per quarter
Council Rates $262 per quarter
Sydney Water $186 per quarter


LAST-MODIFIED:20260425T015511
DTSTAMP:20260425T015511
DTSTART;TZID=Australia/:20200229T120000
LOCATION:3 37 West Street North Sydney NSW 2060
URL:http://www.jpare.com.au/20372394
SEQUENCE:0
END:VEVENT
END:VCALENDAR
