BEGIN:VCALENDAR
VERSION:2.0
PRODID:-//Apple Inc.//iCal 5.0.2//EN
CALSCALE:GREGORIAN
BEGIN:VTIMEZONE
TZID:Australia/
BEGIN:STANDARD
TZOFFSETFROM:+1100
RRULE:FREQ=YEARLY;BYMONTH=4;BYDAY=1SU
DTSTART:20080406T030000
TZNAME:
TZOFFSETTO:+
END:STANDARD
BEGIN:DAYLIGHT
TZOFFSETFROM:+
RRULE:FREQ=YEARLY;BYMONTH=10;BYDAY=1SU
DTSTART:20081005T020000
TZNAME:AEDT
TZOFFSETTO:+1100
END:DAYLIGHT
END:VTIMEZONE
BEGIN:VEVENT
CREATED:20260425T015641
UID:Property20416285Inspection52746075
DTEND;TZID=Australia/:20200229T013000
TRANSP:OPAQUE
SUMMARY:Open For Inspection: 84/14-28 Blue Point Raod, McMahons Point
DESCRIPTION:For Sale  - 1 Br Furnished Apartment - Berry Bay Water Views - Investment or  Residence

The perfect city pad or investment in a prized harbour side setting just 150m walk to the Ferry and buses, less than 4km to the CBD and a short stroll to McMahons Point village and on to North Sydney rail. Living Area with dedicated dining area, Kitchen includes a full sized fridge and dishwasher, immaculate bathroom with floor to ceiling tiles & walk in shower.  Built-in robes and ceiling fans. Apartment is located in a sought after suburb and recently refurbished intercom security building to match the style of the apartment.


LAST-MODIFIED:20260425T015641
DTSTAMP:20260425T015641
DTSTART;TZID=Australia/:20200229T010000
LOCATION:84/14-28 Blue Point Raod McMahons Point NSW 2060
URL:http://www.jpare.com.au/20416285
SEQUENCE:0
END:VEVENT
END:VCALENDAR
