BEGIN:VCALENDAR
VERSION:2.0
PRODID:-//Apple Inc.//iCal 5.0.2//EN
CALSCALE:GREGORIAN
BEGIN:VTIMEZONE
TZID:Australia/
BEGIN:STANDARD
TZOFFSETFROM:+1100
RRULE:FREQ=YEARLY;BYMONTH=4;BYDAY=1SU
DTSTART:20080406T030000
TZNAME:
TZOFFSETTO:+
END:STANDARD
BEGIN:DAYLIGHT
TZOFFSETFROM:+
RRULE:FREQ=YEARLY;BYMONTH=10;BYDAY=1SU
DTSTART:20081005T020000
TZNAME:AEDT
TZOFFSETTO:+1100
END:DAYLIGHT
END:VTIMEZONE
BEGIN:VEVENT
CREATED:20260425T004121
UID:Property20619496Inspection53727584
DTEND;TZID=Australia/:20210227T103000
TRANSP:OPAQUE
SUMMARY:Open For Inspection: 9/4-6 Freeman Place, CARLINGFORD
DESCRIPTION:UNDER CONTRACT - Elevated, spacious ground floor apartment with natural light at every window. Full brick construction with 2 separate balconies, total strata area of 121m².

Great position, walk to shops and transport. This is a great chance to secure an apartment in a quality location with plenty of upside for your own interior design.


LAST-MODIFIED:20260425T004121
DTSTAMP:20260425T004121
DTSTART;TZID=Australia/:20210227T100000
LOCATION:9/4-6 Freeman Place CARLINGFORD NSW 2118
URL:http://www.caleproperty.com.au/20619496
SEQUENCE:0
END:VEVENT
END:VCALENDAR
