BEGIN:VCALENDAR
VERSION:2.0
PRODID:-//Apple Inc.//iCal 5.0.2//EN
CALSCALE:GREGORIAN
BEGIN:VTIMEZONE
TZID:Australia/
BEGIN:STANDARD
TZOFFSETFROM:+1100
RRULE:FREQ=YEARLY;BYMONTH=4;BYDAY=1SU
DTSTART:20080406T030000
TZNAME:
TZOFFSETTO:+
END:STANDARD
BEGIN:DAYLIGHT
TZOFFSETFROM:+
RRULE:FREQ=YEARLY;BYMONTH=10;BYDAY=1SU
DTSTART:20081005T020000
TZNAME:AEDT
TZOFFSETTO:+1100
END:DAYLIGHT
END:VTIMEZONE
BEGIN:VEVENT
CREATED:20260425T004031
UID:Property20506643Inspection53727593
DTEND;TZID=Australia/:20210227T133000
TRANSP:OPAQUE
SUMMARY:Open For Inspection: 323/28 Ferntree Place, Epping
DESCRIPTION:Stunning Spacious Modern 2 Bedroom 2 Bathroom + Study Apartment - Stunning spacious modern 2 bedroom 2 bathroom + study apartment with ample storage. Whisper quiet location.
Gourmet Kitchen, large combined lounge dining rooms, generous covered balcony perfect for the entertainer.

Ample storage throughout, air conditioned, views to city, one common wall. One of only two apartments on level 3. Oversized single parking plus storage.

Heated pool, spa, sauna, and gym in complex.

Shopping nearby.

Approximate quarterly expenses
Strata: $1280
Council: $184
Water: $154

LAST-MODIFIED:20260425T004031
DTSTAMP:20260425T004031
DTSTART;TZID=Australia/:20210227T130000
LOCATION:323/28 Ferntree Place Epping NSW 2121
URL:http://www.caleproperty.com.au/20506643
SEQUENCE:0
END:VEVENT
END:VCALENDAR
