BEGIN:VCALENDAR
VERSION:2.0
PRODID:-//Apple Inc.//iCal 5.0.2//EN
CALSCALE:GREGORIAN
BEGIN:VTIMEZONE
TZID:Australia/
BEGIN:STANDARD
TZOFFSETFROM:+1100
RRULE:FREQ=YEARLY;BYMONTH=4;BYDAY=1SU
DTSTART:20080406T030000
TZNAME:
TZOFFSETTO:+
END:STANDARD
BEGIN:DAYLIGHT
TZOFFSETFROM:+
RRULE:FREQ=YEARLY;BYMONTH=10;BYDAY=1SU
DTSTART:20081005T020000
TZNAME:AEDT
TZOFFSETTO:+1100
END:DAYLIGHT
END:VTIMEZONE
BEGIN:VEVENT
CREATED:20260425T004206
UID:Property20433229Inspection53759079
DTEND;TZID=Australia/:20210227T094500
TRANSP:OPAQUE
SUMMARY:Open For Inspection: 3/14 Cleland Road, ARTARMON
DESCRIPTION:Beautifully presented 2 bedroom unit - Light & airy 2 bedroom unit with combined lounge dining opening to balcony.

Includes gas cooktop and washer/dryer combo located in kitchen.

Main bedroom with built-ins and wooden floors throughout.

Security building, a short walk to Artarmon Station, Shopping and Restaurants.

Single reserved car space.
LAST-MODIFIED:20260425T004206
DTSTAMP:20260425T004206
DTSTART;TZID=Australia/:20210227T093000
LOCATION:3/14 Cleland Road ARTARMON NSW 2064
URL:http://www.caleproperty.com.au/20433229
SEQUENCE:0
END:VEVENT
END:VCALENDAR
