BEGIN:VCALENDAR
VERSION:2.0
PRODID:-//Apple Inc.//iCal 5.0.2//EN
CALSCALE:GREGORIAN
BEGIN:VTIMEZONE
TZID:Australia/
BEGIN:STANDARD
TZOFFSETFROM:+1100
RRULE:FREQ=YEARLY;BYMONTH=4;BYDAY=1SU
DTSTART:20080406T030000
TZNAME:
TZOFFSETTO:+
END:STANDARD
BEGIN:DAYLIGHT
TZOFFSETFROM:+
RRULE:FREQ=YEARLY;BYMONTH=10;BYDAY=1SU
DTSTART:20081005T020000
TZNAME:AEDT
TZOFFSETTO:+1100
END:DAYLIGHT
END:VTIMEZONE
BEGIN:VEVENT
CREATED:20260425T004415
UID:Property14950305Inspection53759107
DTEND;TZID=Australia/:20210227T101500
TRANSP:OPAQUE
SUMMARY:Open For Inspection: 3A Haig Avenue, SUMMER HILL
DESCRIPTION:Two Bedroom Semi In Quiet Cul-de-sac - Quietly located in close proximity to all forms of transport including Taverners Hill light rail and Summer Hill Station. Close to eateries and shopping precincts. 

This two bedroom semi comprises two bedrooms, main with built-in robe, sunroom/study, renovated kitchen and bathroom with internal laundry, lounge room and small eat-in kitchen. The property has polished floorboards throughout with a secure yard.




LAST-MODIFIED:20260425T004415
DTSTAMP:20260425T004415
DTSTART;TZID=Australia/:20210227T100000
LOCATION:3A Haig Avenue SUMMER HILL NSW 2130
URL:http://www.caleproperty.com.au/14950305
SEQUENCE:0
END:VEVENT
END:VCALENDAR
