BEGIN:VCALENDAR
VERSION:2.0
PRODID:-//Apple Inc.//iCal 5.0.2//EN
CALSCALE:GREGORIAN
BEGIN:VTIMEZONE
TZID:Australia/
BEGIN:STANDARD
TZOFFSETFROM:+1100
RRULE:FREQ=YEARLY;BYMONTH=4;BYDAY=1SU
DTSTART:20080406T030000
TZNAME:
TZOFFSETTO:+
END:STANDARD
BEGIN:DAYLIGHT
TZOFFSETFROM:+
RRULE:FREQ=YEARLY;BYMONTH=10;BYDAY=1SU
DTSTART:20081005T020000
TZNAME:AEDT
TZOFFSETTO:+1100
END:DAYLIGHT
END:VTIMEZONE
BEGIN:VEVENT
CREATED:20260425T004055
UID:Property4916902Inspection53759311
DTEND;TZID=Australia/:20210227T101500
TRANSP:OPAQUE
SUMMARY:Open For Inspection: 7/66 Oxford Street, Epping
DESCRIPTION:CONVENIENTLY LOCATED TWO BEDROOM APARTMENT - This conveniently located two bedroom apartment would suit professionals or a young family.  The property boasts light and appealing living areas, good sized bedrooms with built-in wardrobe to main, a separate kitchen and internal laundry, balcony and tandem double garage. 

Five minute walk to Epping Station, local schools, shops and bus interchange.
LAST-MODIFIED:20260425T004055
DTSTAMP:20260425T004055
DTSTART;TZID=Australia/:20210227T100000
LOCATION:7/66 Oxford Street Epping NSW 2121
URL:http://www.caleproperty.com.au/4916902
SEQUENCE:0
END:VEVENT
END:VCALENDAR
