BEGIN:VCALENDAR
VERSION:2.0
PRODID:-//Apple Inc.//iCal 5.0.2//EN
CALSCALE:GREGORIAN
BEGIN:VTIMEZONE
TZID:Australia/
BEGIN:STANDARD
TZOFFSETFROM:+1100
RRULE:FREQ=YEARLY;BYMONTH=4;BYDAY=1SU
DTSTART:20080406T030000
TZNAME:
TZOFFSETTO:+
END:STANDARD
BEGIN:DAYLIGHT
TZOFFSETFROM:+
RRULE:FREQ=YEARLY;BYMONTH=10;BYDAY=1SU
DTSTART:20081005T020000
TZNAME:AEDT
TZOFFSETTO:+1100
END:DAYLIGHT
END:VTIMEZONE
BEGIN:VEVENT
CREATED:20260425T004055
UID:Property14325405Inspection53759312
DTEND;TZID=Australia/:20210227T103000
TRANSP:OPAQUE
SUMMARY:Open For Inspection: 22/25 Fontenoy Road, MACQUARIE PARK
DESCRIPTION:Sunny Position - Situated in the middle of the Complex this spacious ground floor unit features two bedrooms, the main with a large built in wardrobe. The generous lounge/dining area leads onto the sunny private courtyard. Separate kitchen with electric appliances including dishwasher, full bathroom, internal laundry and single undercover security parking. 

City bus at door, 10 minute walk to North Ryde station and a short stroll to Macquarie Business Park and Shopping Centre.
LAST-MODIFIED:20260425T004055
DTSTAMP:20260425T004055
DTSTART;TZID=Australia/:20210227T101500
LOCATION:22/25 Fontenoy Road MACQUARIE PARK NSW 2113
URL:http://www.caleproperty.com.au/14325405
SEQUENCE:0
END:VEVENT
END:VCALENDAR
