BEGIN:VCALENDAR
VERSION:2.0
PRODID:-//Apple Inc.//iCal 5.0.2//EN
CALSCALE:GREGORIAN
BEGIN:VTIMEZONE
TZID:Australia/
BEGIN:STANDARD
TZOFFSETFROM:+1100
RRULE:FREQ=YEARLY;BYMONTH=4;BYDAY=1SU
DTSTART:20080406T030000
TZNAME:
TZOFFSETTO:+
END:STANDARD
BEGIN:DAYLIGHT
TZOFFSETFROM:+
RRULE:FREQ=YEARLY;BYMONTH=10;BYDAY=1SU
DTSTART:20081005T020000
TZNAME:AEDT
TZOFFSETTO:+1100
END:DAYLIGHT
END:VTIMEZONE
BEGIN:VEVENT
CREATED:20260425T004026
UID:Property20122445Inspection53759313
DTEND;TZID=Australia/:20210227T104500
TRANSP:OPAQUE
SUMMARY:Open For Inspection: 26/25 Fontenoy Road, MACQUARIE PARK
DESCRIPTION:Three Bedroom Unit - Situated at the rear of the complex this spacious three bedroom unit features, main bedroom with a large built-in wardrobe and ensuite. Spacious lounge/dining area adjacent to the sunny balcony.  Separate electric kitchen, full bathroom, internal laundry, double security parking. 
City bus at door, 15 minute walk to Macquarie station and stroll to Macquarie Business Centre.
LAST-MODIFIED:20260425T004026
DTSTAMP:20260425T004026
DTSTART;TZID=Australia/:20210227T103000
LOCATION:26/25 Fontenoy Road MACQUARIE PARK NSW 2113
URL:http://www.caleproperty.com.au/20122445
SEQUENCE:0
END:VEVENT
END:VCALENDAR
