BEGIN:VCALENDAR
VERSION:2.0
PRODID:-//Apple Inc.//iCal 5.0.2//EN
CALSCALE:GREGORIAN
BEGIN:VTIMEZONE
TZID:Australia/
BEGIN:STANDARD
TZOFFSETFROM:+1100
RRULE:FREQ=YEARLY;BYMONTH=4;BYDAY=1SU
DTSTART:20080406T030000
TZNAME:
TZOFFSETTO:+
END:STANDARD
BEGIN:DAYLIGHT
TZOFFSETFROM:+
RRULE:FREQ=YEARLY;BYMONTH=10;BYDAY=1SU
DTSTART:20081005T020000
TZNAME:AEDT
TZOFFSETTO:+1100
END:DAYLIGHT
END:VTIMEZONE
BEGIN:VEVENT
CREATED:20260425T004249
UID:Property20650190Inspection53759369
DTEND;TZID=Australia/:20210227T104500
TRANSP:OPAQUE
SUMMARY:Open For Inspection: 19/30 Cambridge Street, Epping
DESCRIPTION:Conveniently Located - This conveniently located two bedroom unit features a large built in wardrobe in main bedroom, full bathroom, separate electric kitchen and generous lounge/dining area leading on to wrap around balcony.

Internal laundry and single lock up garage. 

5 minute walk to all amenities in Epping.
LAST-MODIFIED:20260425T004249
DTSTAMP:20260425T004249
DTSTART;TZID=Australia/:20210227T103000
LOCATION:19/30 Cambridge Street Epping NSW 2121
URL:http://www.caleproperty.com.au/20650190
SEQUENCE:0
END:VEVENT
END:VCALENDAR
