BEGIN:VCALENDAR
VERSION:2.0
PRODID:-//Apple Inc.//iCal 5.0.2//EN
CALSCALE:GREGORIAN
BEGIN:VTIMEZONE
TZID:Australia/
BEGIN:STANDARD
TZOFFSETFROM:+1100
RRULE:FREQ=YEARLY;BYMONTH=4;BYDAY=1SU
DTSTART:20080406T030000
TZNAME:
TZOFFSETTO:+
END:STANDARD
BEGIN:DAYLIGHT
TZOFFSETFROM:+
RRULE:FREQ=YEARLY;BYMONTH=10;BYDAY=1SU
DTSTART:20081005T020000
TZNAME:AEDT
TZOFFSETTO:+1100
END:DAYLIGHT
END:VTIMEZONE
BEGIN:VEVENT
CREATED:20260425T004217
UID:Property20001138Inspection53759370
DTEND;TZID=Australia/:20210227T110000
TRANSP:OPAQUE
SUMMARY:Open For Inspection: 22/4 Bank Street, MEADOWBANK
DESCRIPTION:Studio apartment - Great location. - This neat and tidy, studio apartment is conveniently located with easy access to transport, shops and cafes.

The combined bedroom/living area opens out onto a balcony area, there is an alcove kitchen, separate bathroom, timber flooring throughout and one parking space.

Convenient location to train and ferry.
LAST-MODIFIED:20260425T004217
DTSTAMP:20260425T004217
DTSTART;TZID=Australia/:20210227T104500
LOCATION:22/4 Bank Street MEADOWBANK NSW 2114
URL:http://www.caleproperty.com.au/20001138
SEQUENCE:0
END:VEVENT
END:VCALENDAR
