BEGIN:VCALENDAR
VERSION:2.0
PRODID:-//Apple Inc.//iCal 5.0.2//EN
CALSCALE:GREGORIAN
BEGIN:VTIMEZONE
TZID:Australia/
BEGIN:STANDARD
TZOFFSETFROM:+1100
RRULE:FREQ=YEARLY;BYMONTH=4;BYDAY=1SU
DTSTART:20080406T030000
TZNAME:
TZOFFSETTO:+
END:STANDARD
BEGIN:DAYLIGHT
TZOFFSETFROM:+
RRULE:FREQ=YEARLY;BYMONTH=10;BYDAY=1SU
DTSTART:20081005T020000
TZNAME:AEDT
TZOFFSETTO:+1100
END:DAYLIGHT
END:VTIMEZONE
BEGIN:VEVENT
CREATED:20260425T004056
UID:Property20090427Inspection53759371
DTEND;TZID=Australia/:20210227T111500
TRANSP:OPAQUE
SUMMARY:Open For Inspection: 31/201 Waterloo Road, MARSFIELD
DESCRIPTION:Ground Floor Unit - This three bedroom unit located on ground floor features built in wardrobes in all bedrooms, bathroom including bath with a separate powder room . 
Large kitchen with ample storage and electric cooking. 
Wooden flooring throughout, split system air conditioning, internal laundry and single lock up garage in a security car park. 
Walking distance to local shops and buses.

LAST-MODIFIED:20260425T004056
DTSTAMP:20260425T004056
DTSTART;TZID=Australia/:20210227T110000
LOCATION:31/201 Waterloo Road MARSFIELD NSW 2122
URL:http://www.caleproperty.com.au/20090427
SEQUENCE:0
END:VEVENT
END:VCALENDAR
