BEGIN:VCALENDAR
VERSION:2.0
PRODID:-//Apple Inc.//iCal 5.0.2//EN
CALSCALE:GREGORIAN
BEGIN:VTIMEZONE
TZID:Australia/
BEGIN:STANDARD
TZOFFSETFROM:+1100
RRULE:FREQ=YEARLY;BYMONTH=4;BYDAY=1SU
DTSTART:20080406T030000
TZNAME:
TZOFFSETTO:+
END:STANDARD
BEGIN:DAYLIGHT
TZOFFSETFROM:+
RRULE:FREQ=YEARLY;BYMONTH=10;BYDAY=1SU
DTSTART:20081005T020000
TZNAME:AEDT
TZOFFSETTO:+1100
END:DAYLIGHT
END:VTIMEZONE
BEGIN:VEVENT
CREATED:20260425T004248
UID:Property15725795Inspection53759372
DTEND;TZID=Australia/:20210227T111500
TRANSP:OPAQUE
SUMMARY:Open For Inspection: 18/1-3 Oxford Street, Epping
DESCRIPTION:Two Bedroom Apartment Close to the Station - This spacious two bedroom apartment with new floating timber floors throughout boasts a fantastic open living area flowing onto a balcony.  The gas kitchen includes granite bench tops, ample cupboard space and dishwasher. Both bedrooms have built-in cupboards plus additional storage with a linen cupboard in the hallway. There is a fully tiled bathroom with separate bath and shower and an internal laundry with additional toilet. 

Additional features include security entry, a single security car space and lift access to the apartment.  This small development is situated across from Epping Railway Station, Epping shops and Restaurants and Bus Interchange with direct access to Macquarie University, Macquarie Shopping Centre and the City.

Enter via Cambridge Street.

LAST-MODIFIED:20260425T004248
DTSTAMP:20260425T004248
DTSTART;TZID=Australia/:20210227T110000
LOCATION:18/1-3 Oxford Street Epping NSW 2121
URL:http://www.caleproperty.com.au/15725795
SEQUENCE:0
END:VEVENT
END:VCALENDAR
