BEGIN:VCALENDAR
VERSION:2.0
PRODID:-//Apple Inc.//iCal 5.0.2//EN
CALSCALE:GREGORIAN
BEGIN:VTIMEZONE
TZID:Australia/
BEGIN:STANDARD
TZOFFSETFROM:+1100
RRULE:FREQ=YEARLY;BYMONTH=4;BYDAY=1SU
DTSTART:20080406T030000
TZNAME:
TZOFFSETTO:+
END:STANDARD
BEGIN:DAYLIGHT
TZOFFSETFROM:+
RRULE:FREQ=YEARLY;BYMONTH=10;BYDAY=1SU
DTSTART:20081005T020000
TZNAME:AEDT
TZOFFSETTO:+1100
END:DAYLIGHT
END:VTIMEZONE
BEGIN:VEVENT
CREATED:20260425T004329
UID:Property19245835Inspection53759377
DTEND;TZID=Australia/:20210227T113000
TRANSP:OPAQUE
SUMMARY:Open For Inspection: 5/8 Bank Street, MEADOWBANK
DESCRIPTION:Ground floor unit - Situated in a security complex, this ground floor two bedroom unit has timber floors throughout. Eat-in kitchen, lounge room that opens onto the balcony, large built-in wardrobe in the main bedroom, a full bathroom, internal laundry & a single car space. 

Close to train station, ferry, parks & local shopping centre.
LAST-MODIFIED:20260425T004329
DTSTAMP:20260425T004329
DTSTART;TZID=Australia/:20210227T111500
LOCATION:5/8 Bank Street MEADOWBANK NSW 2114
URL:http://www.caleproperty.com.au/19245835
SEQUENCE:0
END:VEVENT
END:VCALENDAR
