BEGIN:VCALENDAR
VERSION:2.0
PRODID:-//Apple Inc.//iCal 5.0.2//EN
CALSCALE:GREGORIAN
BEGIN:VTIMEZONE
TZID:Australia/
BEGIN:STANDARD
TZOFFSETFROM:+1100
RRULE:FREQ=YEARLY;BYMONTH=4;BYDAY=1SU
DTSTART:20080406T030000
TZNAME:
TZOFFSETTO:+
END:STANDARD
BEGIN:DAYLIGHT
TZOFFSETFROM:+
RRULE:FREQ=YEARLY;BYMONTH=10;BYDAY=1SU
DTSTART:20081005T020000
TZNAME:AEDT
TZOFFSETTO:+1100
END:DAYLIGHT
END:VTIMEZONE
BEGIN:VEVENT
CREATED:20260425T004334
UID:Property20525222Inspection53759389
DTEND;TZID=Australia/:20210227T114500
TRANSP:OPAQUE
SUMMARY:Open For Inspection: 21/192 Vimiera Road, MARSFIELD
DESCRIPTION:Two Bedroom Unit with Air Conditioning - This top floor two bedroom unit situated in a well maintained complex and at the rear of the block providing a quiet living space. 

This unit features split system air conditioning in the lounge/dining area, built in wardrobes to both bedrooms, spacious kitchen with electric cooking, separate full bathroom and powder room. 

Oversized lock up garage and all within close proximity to Epping Boys High School, Local Parks and sporting facilities and city bus at door. 

LAST-MODIFIED:20260425T004334
DTSTAMP:20260425T004334
DTSTART;TZID=Australia/:20210227T113000
LOCATION:21/192 Vimiera Road MARSFIELD NSW 2122
URL:http://www.caleproperty.com.au/20525222
SEQUENCE:0
END:VEVENT
END:VCALENDAR
