BEGIN:VCALENDAR
VERSION:2.0
PRODID:-//Apple Inc.//iCal 5.0.2//EN
CALSCALE:GREGORIAN
BEGIN:VTIMEZONE
TZID:Australia/
BEGIN:STANDARD
TZOFFSETFROM:+1100
RRULE:FREQ=YEARLY;BYMONTH=4;BYDAY=1SU
DTSTART:20080406T030000
TZNAME:
TZOFFSETTO:+
END:STANDARD
BEGIN:DAYLIGHT
TZOFFSETFROM:+
RRULE:FREQ=YEARLY;BYMONTH=10;BYDAY=1SU
DTSTART:20081005T020000
TZNAME:AEDT
TZOFFSETTO:+1100
END:DAYLIGHT
END:VTIMEZONE
BEGIN:VEVENT
CREATED:20260425T004335
UID:Property7758883Inspection53759390
DTEND;TZID=Australia/:20210227T114500
TRANSP:OPAQUE
SUMMARY:Open For Inspection: 1/15 Pembroke Street, Epping
DESCRIPTION:TWO BEDROOM UNIT - A short walk to Epping Station and shops, this first floor, two bedroom unit is ideally located.  With direct access to Macquarie Shopping Centre, Macquarie University and the City, accommodation includes a combined lounge/dining area, an electric kitchen with a pantry and a internal laundry. The bathroom features a separate bath and shower. There is a built-in to the main bedroom, a balcony and a single lock-up garage.
LAST-MODIFIED:20260425T004335
DTSTAMP:20260425T004335
DTSTART;TZID=Australia/:20210227T113000
LOCATION:1/15 Pembroke Street Epping NSW 2121
URL:http://www.caleproperty.com.au/7758883
SEQUENCE:0
END:VEVENT
END:VCALENDAR
