BEGIN:VCALENDAR
VERSION:2.0
PRODID:-//Apple Inc.//iCal 5.0.2//EN
CALSCALE:GREGORIAN
BEGIN:VTIMEZONE
TZID:Australia/
BEGIN:STANDARD
TZOFFSETFROM:+1100
RRULE:FREQ=YEARLY;BYMONTH=4;BYDAY=1SU
DTSTART:20080406T030000
TZNAME:
TZOFFSETTO:+
END:STANDARD
BEGIN:DAYLIGHT
TZOFFSETFROM:+
RRULE:FREQ=YEARLY;BYMONTH=10;BYDAY=1SU
DTSTART:20081005T020000
TZNAME:AEDT
TZOFFSETTO:+1100
END:DAYLIGHT
END:VTIMEZONE
BEGIN:VEVENT
CREATED:20260425T004029
UID:Property20389367Inspection53759421
DTEND;TZID=Australia/:20210227T121500
TRANSP:OPAQUE
SUMMARY:Open For Inspection: 32 Stanley Road, Epping
DESCRIPTION:Three Bedroom home in quiet location - This neat family home is a must see! Timber vinyl planks in multiple living areas including, dining room, lounge and family room, split air con in the living room.  Recently laid carpet in the 3 large bedrooms, two with built in wardrobes and one with free standing wardrobe.  A good size tidy kitchen with dishwasher and ample storage.  

Separate laundry with additional toilet.

Large single lock up garage and single carport, secure yard with inground pool.


LAST-MODIFIED:20260425T004029
DTSTAMP:20260425T004029
DTSTART;TZID=Australia/:20210227T120000
LOCATION:32 Stanley Road Epping NSW 2121
URL:http://www.caleproperty.com.au/20389367
SEQUENCE:0
END:VEVENT
END:VCALENDAR
