BEGIN:VCALENDAR
VERSION:2.0
PRODID:-//Apple Inc.//iCal 5.0.2//EN
CALSCALE:GREGORIAN
BEGIN:VTIMEZONE
TZID:Australia/
BEGIN:STANDARD
TZOFFSETFROM:+1100
RRULE:FREQ=YEARLY;BYMONTH=4;BYDAY=1SU
DTSTART:20080406T030000
TZNAME:
TZOFFSETTO:+
END:STANDARD
BEGIN:DAYLIGHT
TZOFFSETFROM:+
RRULE:FREQ=YEARLY;BYMONTH=10;BYDAY=1SU
DTSTART:20081005T020000
TZNAME:AEDT
TZOFFSETTO:+1100
END:DAYLIGHT
END:VTIMEZONE
BEGIN:VEVENT
CREATED:20260425T003401
UID:Property17591555Inspection53759422
DTEND;TZID=Australia/:20210227T121500
TRANSP:OPAQUE
SUMMARY:Open For Inspection: 3/364 Pennant Hills Road, CARLINGFORD
DESCRIPTION:Well Positioned Unit - Set back from the main road this two bedroom unit offers space and convenience!

This property consists of two bedrooms both with built in wardrobes, a spacious lounge and separate dining room, one full  bathroom and a modern kitchen with ample storage. Also included is a single lock up secure car space.

The school is located in the catchment area of James Ruse Agriculture High School. 

Within walking distance to Carlingford Shopping Centre, buses and schools.
LAST-MODIFIED:20260425T003401
DTSTAMP:20260425T003401
DTSTART;TZID=Australia/:20210227T120000
LOCATION:3/364 Pennant Hills Road CARLINGFORD NSW 2118
URL:http://www.caleproperty.com.au/17591555
SEQUENCE:0
END:VEVENT
END:VCALENDAR
