BEGIN:VCALENDAR
VERSION:2.0
PRODID:-//Apple Inc.//iCal 5.0.2//EN
CALSCALE:GREGORIAN
BEGIN:VTIMEZONE
TZID:Australia/
BEGIN:STANDARD
TZOFFSETFROM:+1100
RRULE:FREQ=YEARLY;BYMONTH=4;BYDAY=1SU
DTSTART:20080406T030000
TZNAME:
TZOFFSETTO:+
END:STANDARD
BEGIN:DAYLIGHT
TZOFFSETFROM:+
RRULE:FREQ=YEARLY;BYMONTH=10;BYDAY=1SU
DTSTART:20081005T020000
TZNAME:AEDT
TZOFFSETTO:+1100
END:DAYLIGHT
END:VTIMEZONE
BEGIN:VEVENT
CREATED:20260425T004329
UID:Property19288895Inspection53759444
DTEND;TZID=Australia/:20210227T121500
TRANSP:OPAQUE
SUMMARY:Open For Inspection: 40/40 Edensor Street, Epping
DESCRIPTION:Bush Outlook - This top floor North facing two bedroom unit includes an electric kitchen which opens onto the combined lounge and dining areas. Two bedrooms, main with built-in wardrobe, bathroom with separate bath and shower and internal laundry.

A single lock up garage and separate storage room are also included. 

Only a short stroll to Epping shops, buses and train station.
LAST-MODIFIED:20260425T004329
DTSTAMP:20260425T004329
DTSTART;TZID=Australia/:20210227T120000
LOCATION:40/40 Edensor Street Epping NSW 2121
URL:http://www.caleproperty.com.au/19288895
SEQUENCE:0
END:VEVENT
END:VCALENDAR
