BEGIN:VCALENDAR
VERSION:2.0
PRODID:-//Apple Inc.//iCal 5.0.2//EN
CALSCALE:GREGORIAN
BEGIN:VTIMEZONE
TZID:Australia/
BEGIN:STANDARD
TZOFFSETFROM:+1100
RRULE:FREQ=YEARLY;BYMONTH=4;BYDAY=1SU
DTSTART:20080406T030000
TZNAME:
TZOFFSETTO:+
END:STANDARD
BEGIN:DAYLIGHT
TZOFFSETFROM:+
RRULE:FREQ=YEARLY;BYMONTH=10;BYDAY=1SU
DTSTART:20081005T020000
TZNAME:AEDT
TZOFFSETTO:+1100
END:DAYLIGHT
END:VTIMEZONE
BEGIN:VEVENT
CREATED:20260425T004120
UID:Property18014225Inspection53759464
DTEND;TZID=Australia/:20210227T124500
TRANSP:OPAQUE
SUMMARY:Open For Inspection: 2/21 Bridge Street, Epping
DESCRIPTION:Premium Location - Sunny two bedroom unit situated at the rear of the complex. 

Features of the unit include built-in wardrobes in both bedrooms, sunny north facing balcony off main bedroom, combined lounge/dining area, neat kitchen with ample storage and a single car space. 

Two minute stroll to Epping Railway, shops and restaurants.
LAST-MODIFIED:20260425T004120
DTSTAMP:20260425T004120
DTSTART;TZID=Australia/:20210227T123000
LOCATION:2/21 Bridge Street Epping NSW 2121
URL:http://www.caleproperty.com.au/18014225
SEQUENCE:0
END:VEVENT
END:VCALENDAR
