BEGIN:VCALENDAR
VERSION:2.0
PRODID:-//Apple Inc.//iCal 5.0.2//EN
CALSCALE:GREGORIAN
BEGIN:VTIMEZONE
TZID:Australia/
BEGIN:STANDARD
TZOFFSETFROM:+1100
RRULE:FREQ=YEARLY;BYMONTH=4;BYDAY=1SU
DTSTART:20080406T030000
TZNAME:
TZOFFSETTO:+
END:STANDARD
BEGIN:DAYLIGHT
TZOFFSETFROM:+
RRULE:FREQ=YEARLY;BYMONTH=10;BYDAY=1SU
DTSTART:20081005T020000
TZNAME:AEDT
TZOFFSETTO:+1100
END:DAYLIGHT
END:VTIMEZONE
BEGIN:VEVENT
CREATED:20260425T004217
UID:Property19289985Inspection53759470
DTEND;TZID=Australia/:20210227T124500
TRANSP:OPAQUE
SUMMARY:Open For Inspection: 6/10 Crown Street, Epping
DESCRIPTION:Well Presented Villa - This two bedroom villa is one of a kind, situated at the rear of a well maintained complex it features two spacious bedrooms both with built in robes, a three way bathroom with quality fittings including heated towel rail. A galley style kitchen with ample storage opens onto the spacious lounge & dining area with reverse cycle A/C. 

Enclosed courtyard and car space are included with this exceptional villa and all within close proximity to shops & transport.


LAST-MODIFIED:20260425T004217
DTSTAMP:20260425T004217
DTSTART;TZID=Australia/:20210227T123000
LOCATION:6/10 Crown Street Epping NSW 2121
URL:http://www.caleproperty.com.au/19289985
SEQUENCE:0
END:VEVENT
END:VCALENDAR
