BEGIN:VCALENDAR
VERSION:2.0
PRODID:-//Apple Inc.//iCal 5.0.2//EN
CALSCALE:GREGORIAN
BEGIN:VTIMEZONE
TZID:Australia/
BEGIN:STANDARD
TZOFFSETFROM:+1100
RRULE:FREQ=YEARLY;BYMONTH=4;BYDAY=1SU
DTSTART:20080406T030000
TZNAME:
TZOFFSETTO:+
END:STANDARD
BEGIN:DAYLIGHT
TZOFFSETFROM:+
RRULE:FREQ=YEARLY;BYMONTH=10;BYDAY=1SU
DTSTART:20081005T020000
TZNAME:AEDT
TZOFFSETTO:+1100
END:DAYLIGHT
END:VTIMEZONE
BEGIN:VEVENT
CREATED:20260425T004206
UID:Property5141072Inspection53759513
DTEND;TZID=Australia/:20210227T124500
TRANSP:OPAQUE
SUMMARY:Open For Inspection: A05/23 Ray Road, Epping
DESCRIPTION:Stylish Refurbished Unit - This apartment with timber floors throughout offers two bedrooms both with built-in wardrobes - main with ensuite, internal laundry and kitchen with stainless steel appliances, gas cook-top, caesar stone bench-tops and ample storage. The main bathroom has floor to ceiling tiles with a good size bath.

The lounge/dining area overlooks a well maintained courtyard style balcony, ducted air conditioning throughout and a single secure car space.

Only a short walk to Epping Station, bus interchange, schools, shops and restaurants.
LAST-MODIFIED:20260425T004206
DTSTAMP:20260425T004206
DTSTART;TZID=Australia/:20210227T123000
LOCATION:A05/23 Ray Road Epping NSW 2121
URL:http://www.caleproperty.com.au/5141072
SEQUENCE:0
END:VEVENT
END:VCALENDAR
