BEGIN:VCALENDAR
VERSION:2.0
PRODID:-//Apple Inc.//iCal 5.0.2//EN
CALSCALE:GREGORIAN
BEGIN:VTIMEZONE
TZID:Australia/
BEGIN:STANDARD
TZOFFSETFROM:+1100
RRULE:FREQ=YEARLY;BYMONTH=4;BYDAY=1SU
DTSTART:20080406T030000
TZNAME:
TZOFFSETTO:+
END:STANDARD
BEGIN:DAYLIGHT
TZOFFSETFROM:+
RRULE:FREQ=YEARLY;BYMONTH=10;BYDAY=1SU
DTSTART:20081005T020000
TZNAME:AEDT
TZOFFSETTO:+1100
END:DAYLIGHT
END:VTIMEZONE
BEGIN:VEVENT
CREATED:20260425T004415
UID:Property13340495Inspection53759515
DTEND;TZID=Australia/:20210227T131500
TRANSP:OPAQUE
SUMMARY:Open For Inspection: 406/38 Victoria Street, Epping
DESCRIPTION:Well maintained three bedroom apartment - This well maintained, three bedroom apartment is located in a quiet cul-de-sac street only minutes' walk to transport and shopping. Features of the property include large combined lounge dining room with wall mounted reverse cycle air conditioning which opens onto a spacious balcony with North East views.  The kitchen is open plan with plenty of storage, includes a dishwasher, and gas cooktop.  The master bedroom has walk through double robes and ensuite bathroom with double basin vanity and bath.  

Full brick construction, in security building.Tandem lockup garage with storage cage.

Complex facilities include a 25 metre outdoor pool, cabana and barbeque facilities set in beautifully maintained gardens.  


LAST-MODIFIED:20260425T004415
DTSTAMP:20260425T004415
DTSTART;TZID=Australia/:20210227T130000
LOCATION:406/38 Victoria Street Epping NSW 2121
URL:http://www.caleproperty.com.au/13340495
SEQUENCE:0
END:VEVENT
END:VCALENDAR
