BEGIN:VCALENDAR
VERSION:2.0
PRODID:-//Apple Inc.//iCal 5.0.2//EN
CALSCALE:GREGORIAN
BEGIN:VTIMEZONE
TZID:Australia/
BEGIN:STANDARD
TZOFFSETFROM:+1100
RRULE:FREQ=YEARLY;BYMONTH=4;BYDAY=1SU
DTSTART:20080406T030000
TZNAME:
TZOFFSETTO:+
END:STANDARD
BEGIN:DAYLIGHT
TZOFFSETFROM:+
RRULE:FREQ=YEARLY;BYMONTH=10;BYDAY=1SU
DTSTART:20081005T020000
TZNAME:AEDT
TZOFFSETTO:+1100
END:DAYLIGHT
END:VTIMEZONE
BEGIN:VEVENT
CREATED:20260425T004224
UID:Property20038223Inspection53759517
DTEND;TZID=Australia/:20210227T131500
TRANSP:OPAQUE
SUMMARY:Open For Inspection: 5/9 Ray Road, Epping
DESCRIPTION:Short Walk to Train Station - Two bedroom unit in a security building with a spacious lounge/dining area adjacent to a reasonable sized balcony. 

Built-in wardrobe in the main bedroom, internal laundry and a single lock up garage.

Short walk to Epping shops, Railway Station, City Buses and Boronia Park.
LAST-MODIFIED:20260425T004224
DTSTAMP:20260425T004224
DTSTART;TZID=Australia/:20210227T130000
LOCATION:5/9 Ray Road Epping NSW 2121
URL:http://www.caleproperty.com.au/20038223
SEQUENCE:0
END:VEVENT
END:VCALENDAR
