BEGIN:VCALENDAR
VERSION:2.0
PRODID:-//Apple Inc.//iCal 5.0.2//EN
CALSCALE:GREGORIAN
BEGIN:VTIMEZONE
TZID:Australia/
BEGIN:STANDARD
TZOFFSETFROM:+1100
RRULE:FREQ=YEARLY;BYMONTH=4;BYDAY=1SU
DTSTART:20080406T030000
TZNAME:
TZOFFSETTO:+
END:STANDARD
BEGIN:DAYLIGHT
TZOFFSETFROM:+
RRULE:FREQ=YEARLY;BYMONTH=10;BYDAY=1SU
DTSTART:20081005T020000
TZNAME:AEDT
TZOFFSETTO:+1100
END:DAYLIGHT
END:VTIMEZONE
BEGIN:VEVENT
CREATED:20260425T004223
UID:Property15931595Inspection53759524
DTEND;TZID=Australia/:20210227T134500
TRANSP:OPAQUE
SUMMARY:Open For Inspection: 207/76 Rawson Street, EPPING
DESCRIPTION:Two bedroom apartment - Live in a lovely apartment in the very heart of Epping! With access to a 25 metre pool, gym, spa, sauna and lounge facilities within the development.  Restaurants, shops and services an elevator ride away. 

Two bedroom apartment with ducted air conditioning includes a living area that flows to a spacious balcony, and bedrooms with built-ins. 

Timber flooring throughout. The gourmet kitchen features dishwasher, microwave, gas cooktop and electric oven, caesarstone benchtops with glass splashbacks and ample cupboard space. Separate laundry facility, designed with convenience in mind, includes a dryer. 

This apartment offers one single security carspace. It is located in close proximity to Epping railway station and shops.
LAST-MODIFIED:20260425T004223
DTSTAMP:20260425T004223
DTSTART;TZID=Australia/:20210227T133000
LOCATION:207/76 Rawson Street EPPING NSW 2121
URL:http://www.caleproperty.com.au/15931595
SEQUENCE:0
END:VEVENT
END:VCALENDAR
