BEGIN:VCALENDAR
VERSION:2.0
PRODID:-//Apple Inc.//iCal 5.0.2//EN
CALSCALE:GREGORIAN
BEGIN:VTIMEZONE
TZID:Australia/
BEGIN:STANDARD
TZOFFSETFROM:+1100
RRULE:FREQ=YEARLY;BYMONTH=4;BYDAY=1SU
DTSTART:20080406T030000
TZNAME:
TZOFFSETTO:+
END:STANDARD
BEGIN:DAYLIGHT
TZOFFSETFROM:+
RRULE:FREQ=YEARLY;BYMONTH=10;BYDAY=1SU
DTSTART:20081005T020000
TZNAME:AEDT
TZOFFSETTO:+1100
END:DAYLIGHT
END:VTIMEZONE
BEGIN:VEVENT
CREATED:20260425T004216
UID:Property18051295Inspection53759531
DTEND;TZID=Australia/:20210227T134500
TRANSP:OPAQUE
SUMMARY:Open For Inspection: 35/42-50 Cliff Road, EPPING
DESCRIPTION:Walk to Shops, Transport and Restaurants - This modern apartment has two bedrooms with plantation shutters and built in wardrobes, ensuite and main bathroom. The study has been enclosed creating a lovely separate room. The open plan living area leads off the contemporary kitchen which offers integrated appliances.

Entertainers be delighted by the good sized balcony with shutters for privacy. 

One car space and storage cage located in a security building.

Within walking distance of shops, Epping train and bus terminals and restaurants. 

LAST-MODIFIED:20260425T004216
DTSTAMP:20260425T004216
DTSTART;TZID=Australia/:20210227T133000
LOCATION:35/42-50 Cliff Road EPPING NSW 2121
URL:http://www.caleproperty.com.au/18051295
SEQUENCE:0
END:VEVENT
END:VCALENDAR
