BEGIN:VCALENDAR
VERSION:2.0
PRODID:-//Apple Inc.//iCal 5.0.2//EN
CALSCALE:GREGORIAN
BEGIN:VTIMEZONE
TZID:Australia/
BEGIN:STANDARD
TZOFFSETFROM:+1100
RRULE:FREQ=YEARLY;BYMONTH=4;BYDAY=1SU
DTSTART:20080406T030000
TZNAME:
TZOFFSETTO:+
END:STANDARD
BEGIN:DAYLIGHT
TZOFFSETFROM:+
RRULE:FREQ=YEARLY;BYMONTH=10;BYDAY=1SU
DTSTART:20081005T020000
TZNAME:AEDT
TZOFFSETTO:+1100
END:DAYLIGHT
END:VTIMEZONE
BEGIN:VEVENT
CREATED:20260425T004120
UID:Property9907233Inspection53759533
DTEND;TZID=Australia/:20210227T140000
TRANSP:OPAQUE
SUMMARY:Open For Inspection: 213/76 Rawson Street, Epping
DESCRIPTION:Three bedroom apartment. - Don't miss the opportunity to live in a beautiful apartment in the very heart of Epping!  This three bedroom apartment with ducted air-conditioning includes living areas that flow to a spacious balcony, kitchen with up-to-the-minute styling and three bedrooms with built-ins.  The gourmet kitchen features dishwasher, microwave, gas cooktop and electric oven, caesarstone benchtops with glass splashbacks and ample cupboard space.  Fully tiled main bathroom and ensuite. The separate laundry facility, designed with convenience in mind, includes a dryer.  Parking is a double security carspace plus storage.  Building facilities include a heated 25 metre pool, gym, spa, sauna and resident's lounge.  The building features full security and is located in close proximity to Epping Railway station and shops.


LAST-MODIFIED:20260425T004120
DTSTAMP:20260425T004120
DTSTART;TZID=Australia/:20210227T134500
LOCATION:213/76 Rawson Street Epping NSW 2121
URL:http://www.caleproperty.com.au/9907233
SEQUENCE:0
END:VEVENT
END:VCALENDAR
