BEGIN:VCALENDAR
VERSION:2.0
PRODID:-//Apple Inc.//iCal 5.0.2//EN
CALSCALE:GREGORIAN
BEGIN:VTIMEZONE
TZID:Australia/
BEGIN:STANDARD
TZOFFSETFROM:+1100
RRULE:FREQ=YEARLY;BYMONTH=4;BYDAY=1SU
DTSTART:20080406T030000
TZNAME:
TZOFFSETTO:+
END:STANDARD
BEGIN:DAYLIGHT
TZOFFSETFROM:+
RRULE:FREQ=YEARLY;BYMONTH=10;BYDAY=1SU
DTSTART:20081005T020000
TZNAME:AEDT
TZOFFSETTO:+1100
END:DAYLIGHT
END:VTIMEZONE
BEGIN:VEVENT
CREATED:20260425T004249
UID:Property20652674Inspection53760527
DTEND;TZID=Australia/:20210227T113000
TRANSP:OPAQUE
SUMMARY:Open For Inspection: 38 Loftus Road, PENNANT HILLS
DESCRIPTION:AUCTION CHANGE OF DATE SATURDAY 13TH MARCH 11AM - Located in a quiet street the home is situated on a large lot of approximately 980m² of land with a generous frontage of 20m.

The home features formal lounge & dining room, large family room at rear with air conditioning, 3 generous bedrooms with bathroom and second WC in laundry. Original gas kitchen and single lockup garage.

The property has a large open rear yard with pool and plenty of space for family.

Endless opportunities for the astute buyer to renovate or rebuild.

LAST-MODIFIED:20260425T004249
DTSTAMP:20260425T004249
DTSTART;TZID=Australia/:20210227T110000
LOCATION:38 Loftus Road PENNANT HILLS NSW 2120
URL:http://www.caleproperty.com.au/20652674
SEQUENCE:0
END:VEVENT
END:VCALENDAR
