BEGIN:VCALENDAR
VERSION:2.0
PRODID:-//Apple Inc.//iCal 5.0.2//EN
CALSCALE:GREGORIAN
BEGIN:VTIMEZONE
TZID:Australia/
BEGIN:STANDARD
TZOFFSETFROM:+1100
RRULE:FREQ=YEARLY;BYMONTH=4;BYDAY=1SU
DTSTART:20080406T030000
TZNAME:
TZOFFSETTO:+
END:STANDARD
BEGIN:DAYLIGHT
TZOFFSETFROM:+
RRULE:FREQ=YEARLY;BYMONTH=10;BYDAY=1SU
DTSTART:20081005T020000
TZNAME:AEDT
TZOFFSETTO:+1100
END:DAYLIGHT
END:VTIMEZONE
BEGIN:VEVENT
CREATED:20260425T004031
UID:Property20655936Inspection53766209
DTEND;TZID=Australia/:20210227T094500
TRANSP:OPAQUE
SUMMARY:Open For Inspection: 14A Dorset Street, Epping
DESCRIPTION:Freshly Painted Throughout - Freshly painted throughout this three bedroom home with study is located at the back of this well maintained block. Featuring three bedrooms with built in wardrobes in 2 of the bedrooms and walk in robe and ensuite to the master bedroom. 

A casual living/dining area off the kitchen with split system air conditioner. A formal lounge and dining room at the front of the home. Internal laundry and double lock up automated garage with internal access. 

The single level yard is easy to maintain. 

This property is a 15 minute walk to Epping Station and local shops. 

LAST-MODIFIED:20260425T004031
DTSTAMP:20260425T004031
DTSTART;TZID=Australia/:20210227T093000
LOCATION:14A Dorset Street Epping NSW 2121
URL:http://www.caleproperty.com.au/20655936
SEQUENCE:0
END:VEVENT
END:VCALENDAR
