BEGIN:VCALENDAR
VERSION:2.0
PRODID:-//Apple Inc.//iCal 5.0.2//EN
CALSCALE:GREGORIAN
BEGIN:VTIMEZONE
TZID:Australia/
BEGIN:STANDARD
TZOFFSETFROM:+1100
RRULE:FREQ=YEARLY;BYMONTH=4;BYDAY=1SU
DTSTART:20080406T030000
TZNAME:
TZOFFSETTO:+
END:STANDARD
BEGIN:DAYLIGHT
TZOFFSETFROM:+
RRULE:FREQ=YEARLY;BYMONTH=10;BYDAY=1SU
DTSTART:20081005T020000
TZNAME:AEDT
TZOFFSETTO:+1100
END:DAYLIGHT
END:VTIMEZONE
BEGIN:VEVENT
CREATED:20260425T023941
UID:Property20168172Inspection51678532
DTEND;TZID=Australia/:20190302T113000
TRANSP:OPAQUE
SUMMARY:Open For Inspection: 40 Strawberry Road, MANLY WEST
DESCRIPTION:Love At First Sight - With adorable street presence, privately positioned behind a white picket fence and nestled amongst gorgeous greenery and magnolias is this renovated 3 bedroom home - welcome home to 40 Strawberry Road, Manly West 'Love At First Sight'. Delightfully renovated and cleverly designed for ease of living, entertaining and optimum comfort, this home embraces our relaxed bayside lifestyle that we have all come to enjoy and is a fantastic opportunity for one very lucky buyer!  Combining character features infused with modern-day conveniences, grab this opportunity and property with both hands to also take advantage of this beautiful home in fantastic location in close proximity to all amenities including shops, restaurants, cafes, schools, transport, walking distance to the Manly Esplanade and marinas and in the Manly State School Catchment Zone... It will be love at first sight and your home sweet home today!

Brimming with charm, this home offers 3 bedrooms all with ceiling fans, 2 bathrooms (master with ensuite), separate built-in study zone, large main bathroom, lounge and dining zones that flow to the undercover alfresco area to the rear. Relax with friends and family and entertain away overlooking your peaceful and private backyard while enjoying the year-round prevailing bay breezes.  Alternatively, sit by the olive tree and magnolias, behind the white picket fence, planted in this private oasis and fully fenced yard and unwind on a generous and elevated entertaining platform to the front of the home and enjoy your sun soaked mornings with your cup of tea surrounded by these lush plantings.

This gorgeous character style home is located in the beautiful suburb of Manly West (15kms from the Brisbane CBD), a short walking distance from parklands, Manly Harbour, and the glorious Esplanade with its endless walking and cycling paths. Add to this the short walk to rail and bus links directly to the Brisbane CBD, and the highly regarded private and public schools in close proximity, you have everything you could ever need at your fingertips! 

Before this property is the one you let get away, and you are forever asking yourself, "why" didn't I buy this adorable home in this fantastic location when I had the chance, best to get in now... It will be love at first sight! Call any member of The Gill Team to arrange your inspection and purchase this beautiful home today.

LAST-MODIFIED:20260425T023941
DTSTAMP:20260425T023941
DTSTART;TZID=Australia/:20190302T110000
LOCATION:40 Strawberry Road MANLY WEST QLD 4179
URL:http://www.remaxadvantage.com.au/20168172
SEQUENCE:0
END:VEVENT
END:VCALENDAR
