BEGIN:VCALENDAR
VERSION:2.0
PRODID:-//Apple Inc.//iCal 5.0.2//EN
CALSCALE:GREGORIAN
BEGIN:VTIMEZONE
TZID:Australia/
BEGIN:STANDARD
TZOFFSETFROM:+1100
RRULE:FREQ=YEARLY;BYMONTH=4;BYDAY=1SU
DTSTART:20080406T030000
TZNAME:
TZOFFSETTO:+
END:STANDARD
BEGIN:DAYLIGHT
TZOFFSETFROM:+
RRULE:FREQ=YEARLY;BYMONTH=10;BYDAY=1SU
DTSTART:20081005T020000
TZNAME:AEDT
TZOFFSETTO:+1100
END:DAYLIGHT
END:VTIMEZONE
BEGIN:VEVENT
CREATED:20260425T024108
UID:Property20099380Inspection51681012
DTEND;TZID=Australia/:20190302T093000
TRANSP:OPAQUE
SUMMARY:Open For Inspection: 18 Peplow Street, HEMMANT
DESCRIPTION:THE BEST OF SUBURBAN AND CITY LIVING - This new listing to the market is ideally suited for the first home buyers, or the smart investor. With suburban surrounds, and city life within 17klm to Brisbane CBD, this home will be snapped up quite quickly. 

Features are:
- 3  bedrooms with built-ins, study/kids room with new carpet
-  New polished timber flooring through traffic areas plus study nook
- Tidy kitchen & combined dining/lounge living area
- Relax on your beautiful Merbau timber deck with leafy acreage outlook
- 405m fully fenced yard with car accommodation to house 4 off road
- New roof, new external painting & renovated bathroom
- Laundry under with concrete stumping & heaps of storage
- Flat useable land with garden shed located at rear of the property
- Rates $362pq, water approx. $340 depending on usage

This property is minutes' drive to train, M1 Gateway Motorway, 15 minutes to Brisbane airport, 10 minutes' to Wynnum CBD and the esplanade for an afternoon stroll by the water.  If you are looking to purchase in the sunny state of Queensland and close to Moreton Bay this property could be the one.  Call Liza Martinez now to arrange a suitable time or pop into one of the scheduled open homes. 

LAST-MODIFIED:20260425T024108
DTSTAMP:20260425T024108
DTSTART;TZID=Australia/:20190302T090000
LOCATION:18 Peplow Street HEMMANT QLD 4174
URL:http://www.remaxadvantage.com.au/20099380
SEQUENCE:0
END:VEVENT
END:VCALENDAR
