BEGIN:VCALENDAR
VERSION:2.0
PRODID:-//Apple Inc.//iCal 5.0.2//EN
CALSCALE:GREGORIAN
BEGIN:VTIMEZONE
TZID:Australia/
BEGIN:STANDARD
TZOFFSETFROM:+1100
RRULE:FREQ=YEARLY;BYMONTH=4;BYDAY=1SU
DTSTART:20080406T030000
TZNAME:
TZOFFSETTO:+
END:STANDARD
BEGIN:DAYLIGHT
TZOFFSETFROM:+
RRULE:FREQ=YEARLY;BYMONTH=10;BYDAY=1SU
DTSTART:20081005T020000
TZNAME:AEDT
TZOFFSETTO:+1100
END:DAYLIGHT
END:VTIMEZONE
BEGIN:VEVENT
CREATED:20260425T024104
UID:Property20123473Inspection51684508
DTEND;TZID=Australia/:20190302T123000
TRANSP:OPAQUE
SUMMARY:Open For Inspection: 168 Stratton Terrace, MANLY
DESCRIPTION:POSITION, PROPERTY & PRICE - IT'S THE TRIFECTA! - Combine this exceptional position in the heart of Manly Village, 180m flat walking distance to Cambridge Parade dining precinct, Manly Esplanade and Marinas, with a solid architecturally designed two-story home, on a larger than normal 506sqm block and you have Position, Property & Price...  It's the Trifecta!  An outstanding opportunity for astute purchasers with foresight for the capital growth potential in this Manly precinct... don't let this opportunity go, grab this with both hands, this home is the closest property to the Manly Village on 506sqm available on the market!!   Fantastic buying and outstanding value for money... Purchase this home today to secure your future!

The home itself offers 5 bed, 2.5 bath, 2 car accommodation and private resort style pool.  With kitchenette downstairs for dual living potential and master retreat upstairs, providing great separation for larger and extended families.  Designed and built by highly respected Qld Originals, the home features timber accents throughout.  Live comfortably in this solid, large home with the potential to add your own touches and modernize, and never over-capitalise in this exceptional position!

Pop a bottle of wine under your arm and step outside your front door to frequent over 20 restaurants, cafes, bars and boutiques, sit by the bay for lunch at The Royal Queensland Yacht Squadron and surrounding Marinas, jump on your boat to pop over to the Moreton Bay Islands, take a train ride with rail links directly to the Brisbane CBD, or take a bike ride along the scenic Esplanade and kilometres of cycle paths... Does it get any better!!? Located in the highly sought after 'Manly School' catchment, in close proximity to some of Brisbane's finest independent schools...  Contact The Gill Team to arrange your inspection and purchase this home today... this is the Trifecta - Position, Property & Price!
LAST-MODIFIED:20260425T024104
DTSTAMP:20260425T024104
DTSTART;TZID=Australia/:20190302T120000
LOCATION:168 Stratton Terrace MANLY QLD 4179
URL:http://www.remaxadvantage.com.au/20123473
SEQUENCE:0
END:VEVENT
END:VCALENDAR
