BEGIN:VCALENDAR
VERSION:2.0
PRODID:-//Apple Inc.//iCal 5.0.2//EN
CALSCALE:GREGORIAN
BEGIN:VTIMEZONE
TZID:Australia/
BEGIN:STANDARD
TZOFFSETFROM:+1100
RRULE:FREQ=YEARLY;BYMONTH=4;BYDAY=1SU
DTSTART:20080406T030000
TZNAME:
TZOFFSETTO:+
END:STANDARD
BEGIN:DAYLIGHT
TZOFFSETFROM:+
RRULE:FREQ=YEARLY;BYMONTH=10;BYDAY=1SU
DTSTART:20081005T020000
TZNAME:AEDT
TZOFFSETTO:+1100
END:DAYLIGHT
END:VTIMEZONE
BEGIN:VEVENT
CREATED:20260425T021822
UID:Property20414799Inspection52725823
DTEND;TZID=Australia/:20200229T110000
TRANSP:OPAQUE
SUMMARY:Open For Inspection: 69 Gordon Parade, MANLY
DESCRIPTION:Boasting Bay Views a Rare Opportunity to Create your own Dream Queenslander Home - Offering Bay Views, Original Majestic Queenslander and Elevated Position this amazing property is the perfect character home to renovate while securing a large 809sqm block on Manly Hill. 

The existing circa 1920's character home is ready to be transformed back to its original Blue Chip Property. First time offered to the market in 100 years, this amazing opportunity will suit astute buyers searching for position, price and potential. 

This unique property, situated in Brisbane's Premier Bayside suburb is not to be missed. The property's features include;

 - Double block, two 405sqm lots
 - Four bedrooms 
 - Large living and dining area
 - 1920's circa character home 
 - Wrap around verandah
 - Original VJ walls and breezeways
 - Unique press metal ceilings 
 - Wide timber floorboards
 - Large secure storage underneath the home
 - Single car accommodation plus further off-street parking

This property is only a short stroll to cafes, restaurants and shops in the popular Manly Harbour Village and waterfront precinct. Situated within the Manly State School catchment & a short drive to some of Brisbane's most respected private schools this highly desirable location allows you to live that enviable Bayside lifestyle you've always dreamed of. Create your dream home right here, capitalise on the large block and outstanding views in the highly sought-after Manly address.

Contact Debbie Norris and inspect this property to secure your future.
LAST-MODIFIED:20260425T021822
DTSTAMP:20260425T021822
DTSTART;TZID=Australia/:20200229T101500
LOCATION:69 Gordon Parade MANLY QLD 4179
URL:http://www.remaxadvantage.com.au/20414799
SEQUENCE:0
END:VEVENT
END:VCALENDAR
