BEGIN:VCALENDAR
VERSION:2.0
PRODID:-//Apple Inc.//iCal 5.0.2//EN
CALSCALE:GREGORIAN
BEGIN:VTIMEZONE
TZID:Australia/
BEGIN:STANDARD
TZOFFSETFROM:+1100
RRULE:FREQ=YEARLY;BYMONTH=4;BYDAY=1SU
DTSTART:20080406T030000
TZNAME:
TZOFFSETTO:+
END:STANDARD
BEGIN:DAYLIGHT
TZOFFSETFROM:+
RRULE:FREQ=YEARLY;BYMONTH=10;BYDAY=1SU
DTSTART:20081005T020000
TZNAME:AEDT
TZOFFSETTO:+1100
END:DAYLIGHT
END:VTIMEZONE
BEGIN:VEVENT
CREATED:20260425T022027
UID:Property20413946Inspection52741064
DTEND;TZID=Australia/:20200229T093000
TRANSP:OPAQUE
SUMMARY:Open For Inspection: 114 Kamarin Street, Manly West
DESCRIPTION:Owners are on the move - Sell Sell Sell !! - This is a rare opportunity to secure a large parcel of land in the Manly West area. Renovate or raise the existing family home or apply to the Brisbane City Council to convert into two blocks and reap the benefits in the future.  The home is close to a local school and public transport - only about a 15 minutes' walk to Manly State School and less to Manly train station.  Enjoy a short drive to the beautiful waters of Moreton Bay, and the highly popular Lota Esplanade and bayside parklands, this home is a must see this coming weekend. 

Features are: 
= Currently on single title with potential to subdivide into two separate lots ( subject to council approval) 
= 3 generous bedrooms with built-in the main & robes in other rooms
= Beautiful timber flooring under the original carpeted areas
= A sleepout, separate lounge & dining rooms with fans throughout
= Renovated kitchen with heaps of storage & dishwasher
= Main bathroom including w/c & 2 w/c downstairs next to the generous laundry
= Elevated rear timber deck overlooking sparkling salt-water pool
= Fully fenced yard with double Titan garage
= Established gardens & water tank for external use
= Solar electricity with 24 panels & NBN connection
= 1.2km to Manly State School & Manly Train station
= Walk to Manly West State School, Moreton Bay boys & short drive Moreton Bay girls college 

This location is a great buy in our South Eastern pocket of Brisbane with a short drive to Manly yacht club, Manly cafes & restaurants, Lota & Manly Esplanade, Wynnum Central Business district, Wynnum Manly Leagues Club, the Wading pool on Wynnum Esplanade and soon to be open,  our new Cinema.  These are the reasons I love living and selling in the local bayside area.  

** Call Liza to arrange your private inspection. 15 minute individual inspections will be arranged and thank you for your patience. 

LAST-MODIFIED:20260425T022027
DTSTAMP:20260425T022027
DTSTART;TZID=Australia/:20200229T090000
LOCATION:114 Kamarin Street Manly West QLD 4179
URL:http://www.remaxadvantage.com.au/20413946
SEQUENCE:0
END:VEVENT
END:VCALENDAR
