BEGIN:VCALENDAR
VERSION:2.0
PRODID:-//Apple Inc.//iCal 5.0.2//EN
CALSCALE:GREGORIAN
BEGIN:VTIMEZONE
TZID:Australia/
BEGIN:STANDARD
TZOFFSETFROM:+1100
RRULE:FREQ=YEARLY;BYMONTH=4;BYDAY=1SU
DTSTART:20080406T030000
TZNAME:
TZOFFSETTO:+
END:STANDARD
BEGIN:DAYLIGHT
TZOFFSETFROM:+
RRULE:FREQ=YEARLY;BYMONTH=10;BYDAY=1SU
DTSTART:20081005T020000
TZNAME:AEDT
TZOFFSETTO:+1100
END:DAYLIGHT
END:VTIMEZONE
BEGIN:VEVENT
CREATED:20260425T022026
UID:Property20402182Inspection52741231
DTEND;TZID=Australia/:19700101T000000
TRANSP:OPAQUE
SUMMARY:Open For Inspection: 114 Akonna Street, Wynnum
DESCRIPTION:Best of the Bayside - This chic coastal three-story home is nestled away in the Bayside area of Wynnum.  This prime location will allow you to truly live the best of the Bayside lifestyle with breathtaking views spanning Moreton Island to Stradbroke Island. 
Less than 500 meters from the bayside waterfront, with the Wynnum jetty, Pandanus beach, wading pool, many cafes, restaurants, boutique shops, coffee shops, parks and walking tracks to enjoy. 
On entry, you are greeted with rich timber flooring and a staircase inviting you up to the first floor with two bedrooms, a dedicated bathroom and a lounge/multi-purpose room, which leads out to the generous, lush backyard. 
On the second level is the master bedroom, with newly renovated ensuite and large walk in robe.  Large glass sliding doors open onto a private balcony which allows the beautiful seaside breezes to flow through. 
The open plan living area with gourmet kitchen, dining and lounge, flows out onto the upstairs deck where alfresco dining and beautiful vistas can be enjoyed all year round.  

Features:
: Stunning ocean views and seaside breezes
: 4 bedrooms (2 with large walk in robes), 3 bathrooms
: Master bedroom with WIR & a beautifully renovated bathroom 
: Several rooms with air-conditioning including the master 
: Rich timber flooring combined with new carpet & fans throughout
: Newly renovated kitchen Caesar stone waterfall countertops & Bosch appliances
: Entertainment deck on top level plus private balcony off master
: Large built-in internal laundry
: Generous yard, with secure electric gate, fully fenced yard & water tank 
: Walking distance to the Esplanade, Wynnum central business district, & soon to be completed cinema 
: A short drive to Manly Esplanade, café & local shopping
: 20 minutes' drive to Brisbane airport & Westfield Carindale shopping centre
: Jump on the M1 motorway & be on the Gold Coast within an hour or travel north to the Sunshine coast which is only an hour & a half away.  

This stunning property won't be on the market for long, so call me to arrange a private inspection or I welcome you to my next open home.  

LAST-MODIFIED:20260425T022026
DTSTAMP:20260425T022026
DTSTART;TZID=Australia/:19700101T100000
LOCATION:114 Akonna Street Wynnum QLD 4178
URL:http://www.remaxadvantage.com.au/20402182
SEQUENCE:0
END:VEVENT
END:VCALENDAR
