BEGIN:VCALENDAR
VERSION:2.0
PRODID:-//Apple Inc.//iCal 5.0.2//EN
CALSCALE:GREGORIAN
BEGIN:VTIMEZONE
TZID:Australia/
BEGIN:STANDARD
TZOFFSETFROM:+1100
RRULE:FREQ=YEARLY;BYMONTH=4;BYDAY=1SU
DTSTART:20080406T030000
TZNAME:
TZOFFSETTO:+
END:STANDARD
BEGIN:DAYLIGHT
TZOFFSETFROM:+
RRULE:FREQ=YEARLY;BYMONTH=10;BYDAY=1SU
DTSTART:20081005T020000
TZNAME:AEDT
TZOFFSETTO:+1100
END:DAYLIGHT
END:VTIMEZONE
BEGIN:VEVENT
CREATED:20260425T021817
UID:Property20198767Inspection52742608
DTEND;TZID=Australia/:20200229T100000
TRANSP:OPAQUE
SUMMARY:Open For Inspection: 20 Gordon Parade, MANLY
DESCRIPTION:Bay Views, 810sqm Block, Dual Living, Manly Lifestyle - Positioned on an 810sqm elevated block the house sits proudly towards the front capturing expansive bayside views, leaving a large vacant parcel of land at the rear of the property with side access. Unique dual living Queenslander with 2 separate entries and enjoy growth, views and future development potential.  The large rear yard boasts a two bay garage with fruit trees and herb gardens scattered around the garden. From the rear the property enjoys mountain views. Plenty of room for parking caravans, boats and all the toys.

Upstairs offers a beautiful Queenslander boasting timeless period features including breezeways, stained glass arched French doors, vj walls, ornate windows and timber floors lying beneath floor coverings. It offers;
* Huge master bedroom with built in robe, large sleep out and two way access to bathroom
* Spacious second bedroom with built in robes and pendant light
* Second sleep out that can be used as an fifth bedroom
* Bathroom with large vanity and shower/bath
* Large kitchen with plenty of bench space and cupboards
* Open plan living and dining that flows through 2 sets of french doors onto a large rear deck 
* Large rear deck with stunning views 
* Second toilet
* Front stairs and rear stairs

Downstairs has recently been renovated, it offers;
* Air-conditioned large open plan living and dining 
* Modern kitchen with large walk in pantry and breakfast bar
* Ensuited master bedroom with glass doors overlooking large covered patio and back yard
* Second bedroom with built in robe
* Ensuite bathroom with separate bath and shower
* Prowler Proof Security Screens throughout down stairs
* Laundry and storage area
* Large covered patio that overlooks the large back yard
* Garage with direct internal access

The location is outstanding being within walking distance of Manly State School, St John Vianney Catholic Primary, Wynnum State High, Manly Village café, restaurant, entertainment & boutique shopping precinct and public transport. Enjoy easy access to Moreton Bay, Manly yacht and boat harbours and convenient access to major arterial roads.

A short stroll to the Moreton Bay waterfront and 15km from the CBD this home represents a solid gold investment with outstanding potential to renovate, extend, develop (STCA) or move in as is and make this home your forever home with forever views.

LAST-MODIFIED:20260425T021817
DTSTAMP:20260425T021817
DTSTART;TZID=Australia/:20200229T094500
LOCATION:20 Gordon Parade MANLY QLD 4179
URL:http://www.remaxadvantage.com.au/20198767
SEQUENCE:0
END:VEVENT
END:VCALENDAR
