BEGIN:VCALENDAR
VERSION:2.0
PRODID:-//Apple Inc.//iCal 5.0.2//EN
CALSCALE:GREGORIAN
BEGIN:VTIMEZONE
TZID:Australia/
BEGIN:STANDARD
TZOFFSETFROM:+1100
RRULE:FREQ=YEARLY;BYMONTH=4;BYDAY=1SU
DTSTART:20080406T030000
TZNAME:
TZOFFSETTO:+
END:STANDARD
BEGIN:DAYLIGHT
TZOFFSETFROM:+
RRULE:FREQ=YEARLY;BYMONTH=10;BYDAY=1SU
DTSTART:20081005T020000
TZNAME:AEDT
TZOFFSETTO:+1100
END:DAYLIGHT
END:VTIMEZONE
BEGIN:VEVENT
CREATED:20260425T015857
UID:Property20378830Inspection52742609
DTEND;TZID=Australia/:20200229T093000
TRANSP:OPAQUE
SUMMARY:Open For Inspection: 103/177 Melville Tce, MANLY
DESCRIPTION:Stylish Unit with Courtyard in heart of Manly - Positioned in the heart of Manly offering the new home owner easy living to enjoy the Bayside lifestyle. Boutique shops, cafes, restaurants, entertainment venues, yacht and boat marinas, fitness facilities, park lands and the beautiful waters of Moreton Bay are all on your doorstep. This is a place many love to visit but not everyone can call home.

Situated in the boutique Manly Breeze complex of only twelve apartments it offers a lifestyle of sophistication and simplicity. Encompassing an entertainer's kitchen with ample stone bench space and cabinetry, gas cooking, with an open easy flow layout to the living, dining and outdoor spaces. Continue the entertainer's lifestyle with a 27sqm terrace area including a large planter box for herbs and plants.

Features of these stylish apartments include;

- Elevator to all levels
- Stone bench tops in kitchen and bathrooms
- Spacious kitchen with abundance of storage and bench space
- Four burner gas cooking
- Designer fittings and finishes throughout
- Ceiling fans throughout
- Air-conditioned master bedroom and living spaces
- Screens to all windows and doors
- Additional second car park

To arrange your private viewing please contact Debbie Norris.
LAST-MODIFIED:20260425T015857
DTSTAMP:20260425T015857
DTSTART;TZID=Australia/:20200229T090000
LOCATION:103/177 Melville Tce MANLY QLD 4179
URL:http://www.remaxadvantage.com.au/20378830
SEQUENCE:0
END:VEVENT
END:VCALENDAR
