BEGIN:VCALENDAR
VERSION:2.0
PRODID:-//Apple Inc.//iCal 5.0.2//EN
CALSCALE:GREGORIAN
BEGIN:VTIMEZONE
TZID:Australia/
BEGIN:STANDARD
TZOFFSETFROM:+1100
RRULE:FREQ=YEARLY;BYMONTH=4;BYDAY=1SU
DTSTART:20080406T030000
TZNAME:
TZOFFSETTO:+
END:STANDARD
BEGIN:DAYLIGHT
TZOFFSETFROM:+
RRULE:FREQ=YEARLY;BYMONTH=10;BYDAY=1SU
DTSTART:20081005T020000
TZNAME:AEDT
TZOFFSETTO:+1100
END:DAYLIGHT
END:VTIMEZONE
BEGIN:VEVENT
CREATED:20260425T021822
UID:Property20420131Inspection52743571
DTEND;TZID=Australia/:20200229T113000
TRANSP:OPAQUE
SUMMARY:Open For Inspection: 113 Wynnum Esplanade, Wynnum
DESCRIPTION:Life on the Esplanade boasting side access for boat/caravan - From time to time the privilege arises to purchase a one-of-a-kind property, and this is it. Introducing to you, 113 Wynnum Esplanade Wynnum. An unrivalled Moreton Island facing residence with an exceptional level of quality. 
Impressively positioned only a stone's throw from the waterfront and proudly occupying 478sqm of prime land on Wynnum Esplanade, this sprawling family home offers character, charm, and an enviable lifestyle of coastal living, coupled with a coveted north east aspect and views of Wynnum Esplanade out to Waterloo Bay.

Enjoy the atmosphere of a village by the water! It is within walking distance to buzzing restaurants, Manly Harbour, train stations and just 20 metres to Wynnum's famous beach front Esplanade; ideal for families and children with wading pools and Wynnum's famous 'Whale water park'. Enjoy a plethora of local boutiques and cafes at your door step along and sea breezes from every room. Though laid back and private, this vibrant and very popular suburb is only 25 minutes from the CBD.

Boasting a double lock up garage plus double side gates, ideal for boat/caravan parking plus a large shed, this home is a dream come true.

The gourmet kitchen is large in size with traditional styling that boasts ample timber cabinetry, loads of storage, striking black granite benches and a full range of quality stainless steel appliances.

- Side access with double gates for boat or caravan
- Large garden shed
- Room for pool
- Potential for home office/business with private entry
- 5 Bedrooms
- Breathtaking water/parkland views
- 4 Living areas
- Gourmet kitchen
- Corner 478m2 block 

This address offers complete solace and will not last long.
Contact Tamara for more information 7 days on her mobile.
LAST-MODIFIED:20260425T021822
DTSTAMP:20260425T021822
DTSTART;TZID=Australia/:20200229T110000
LOCATION:113 Wynnum Esplanade Wynnum QLD 4178
URL:http://www.remaxadvantage.com.au/20420131
SEQUENCE:0
END:VEVENT
END:VCALENDAR
