BEGIN:VCALENDAR
VERSION:2.0
PRODID:-//Apple Inc.//iCal 5.0.2//EN
CALSCALE:GREGORIAN
BEGIN:VTIMEZONE
TZID:Australia/
BEGIN:STANDARD
TZOFFSETFROM:+1100
RRULE:FREQ=YEARLY;BYMONTH=4;BYDAY=1SU
DTSTART:20080406T030000
TZNAME:
TZOFFSETTO:+
END:STANDARD
BEGIN:DAYLIGHT
TZOFFSETFROM:+
RRULE:FREQ=YEARLY;BYMONTH=10;BYDAY=1SU
DTSTART:20081005T020000
TZNAME:AEDT
TZOFFSETTO:+1100
END:DAYLIGHT
END:VTIMEZONE
BEGIN:VEVENT
CREATED:20260425T021935
UID:Property20405080Inspection52743572
DTEND;TZID=Australia/:20200229T103000
TRANSP:OPAQUE
SUMMARY:Open For Inspection: 25 Chestnut Street, Wynnum
DESCRIPTION:Best Offers - Welcome to your brand new home, built with precision and style by the esteemed 'Sunstate Constructions', a reputable local builder who has an eye for detail and the local market.

Here you'll find a free-flowing and light-filled floor plan with a focus on your dream bayside lifestyle and entertaining. 
An open plan living and dining area form the heart of the home, overlooking the sleek gourmet kitchen which include an gas cooktop with range hood, dishwasher, breakfast bar and bench tops illuminated by feature down lighting.  
Enjoy beautiful bay breezes and Brisbane's fantastic weather with alfresco dining in the outdoor entertaining area overlooking the neat and tidy, fully fenced garden.
 
25 Chestnut Street is located in one of the most desirable parts of Wynnum, literally a stone's throw from the Wynnum Waterfront and offers everything for the astute buyer, retirees and downsizers.

* Tiled living areas and carpeted bedrooms
* Master bedroom boasts walk-in robe and ensuite
* Three other bedrooms with ceiling fans, built-in robes
* Spacious laundry leading out to a discreet clothes line
* New home warranties apply
* Air conditioned living area and master bedroom
* Short walk to café precinct, waterfront, fitness facilities, parks, cycle-ways, boating, water sports, outdoor activities, rail link and so much more!!
* Close to motorway for access to airport and coasts
* Nearby: Reputable private and public schools including Iona and Moreton Bay Colleges
* Close proximity to Manly Village, Royal Queensland Yacht Squadron, Manly Marina & Moreton Bay Trailer Boat Club

Call Tamara Hall for more information today!
LAST-MODIFIED:20260425T021935
DTSTAMP:20260425T021935
DTSTART;TZID=Australia/:20200229T100000
LOCATION:25 Chestnut Street Wynnum QLD 4178
URL:http://www.remaxadvantage.com.au/20405080
SEQUENCE:0
END:VEVENT
END:VCALENDAR
