BEGIN:VCALENDAR
VERSION:2.0
PRODID:-//Apple Inc.//iCal 5.0.2//EN
CALSCALE:GREGORIAN
BEGIN:VTIMEZONE
TZID:Australia/
BEGIN:STANDARD
TZOFFSETFROM:+1100
RRULE:FREQ=YEARLY;BYMONTH=4;BYDAY=1SU
DTSTART:20080406T030000
TZNAME:
TZOFFSETTO:+
END:STANDARD
BEGIN:DAYLIGHT
TZOFFSETFROM:+
RRULE:FREQ=YEARLY;BYMONTH=10;BYDAY=1SU
DTSTART:20081005T020000
TZNAME:AEDT
TZOFFSETTO:+1100
END:DAYLIGHT
END:VTIMEZONE
BEGIN:VEVENT
CREATED:20260425T020027
UID:Property20379958Inspection52744299
DTEND;TZID=Australia/:20200229T103000
TRANSP:OPAQUE
SUMMARY:Open For Inspection: 1 Dalkerry Street, WYNNUM WEST
DESCRIPTION:Low-set Brick & Tile Home in Brilliant Location! - Positioned on fantastic corner block with two street frontage, lovely street appeal and presence, this lowset brick and tile home is the perfect home or investment!  With the addition of the ensuite bathroom to the master, and ideal floorplan providing separation, be sure to contact us to arrange your inspection and purchase this fantastic property today!

Relax on your private front porch capturing prevailing, cooling bay breezes on warm summer evenings, with beautiful hedging providing all the privacy you need... step inside the home to be greeted with the well-appointed living spaces and open plan kitchen, lounge and dining zones for enjoyable family living.  Offering gleaming hard wood timber polished floors throughout, the home has also been freshly painted throughout.  Fully fenced yard, with access to the rear of the property provides ample room for boat, caravan and further car accomodation. Also room for pool, entertaining options and all the space you could need for children and pets.

With 4 bedrooms, 2 bathrooms and positioned on this fantastic larger 610sqm block, the home is positioned less than 3km to the stunning Manly Marina & Esplanade, with endless walking and cycling paths, and with amenities such as Wynnum Plaza shopping centre only a short 2 minute drive away (650m as the crow flies), along with public transport links direct to the CBD at your doorstep.  Within 500m walking distance to the highly regarded Wondall State School... this home is positioned in respectable and whisper quiet Dalkerry street in fantastic Wynnum West... surrounded by quality, well-cared and maintained homes.  Be sure to inspect this property, don't delay and contact The Gill Team today. 

LAST-MODIFIED:20260425T020027
DTSTAMP:20260425T020027
DTSTART;TZID=Australia/:20200229T100000
LOCATION:1 Dalkerry Street WYNNUM WEST QLD 4178
URL:http://www.remaxadvantage.com.au/20379958
SEQUENCE:0
END:VEVENT
END:VCALENDAR
