BEGIN:VCALENDAR
VERSION:2.0
PRODID:-//Apple Inc.//iCal 5.0.2//EN
CALSCALE:GREGORIAN
BEGIN:VTIMEZONE
TZID:Australia/
BEGIN:STANDARD
TZOFFSETFROM:+1100
RRULE:FREQ=YEARLY;BYMONTH=4;BYDAY=1SU
DTSTART:20080406T030000
TZNAME:
TZOFFSETTO:+
END:STANDARD
BEGIN:DAYLIGHT
TZOFFSETFROM:+
RRULE:FREQ=YEARLY;BYMONTH=10;BYDAY=1SU
DTSTART:20081005T020000
TZNAME:AEDT
TZOFFSETTO:+1100
END:DAYLIGHT
END:VTIMEZONE
BEGIN:VEVENT
CREATED:20260425T015947
UID:Property20421499Inspection52744300
DTEND;TZID=Australia/:19700101T000000
TRANSP:OPAQUE
SUMMARY:Open For Inspection: 119 Whites Road, MANLY WEST
DESCRIPTION:Get Ready, Get Set, Go! - Look no further, this is the fantastic opportunity and property you have been searching for!  Low maintenance, lowset brick and tile home, in fantastic location, close to all amenities and walking distance to the glorious Esplanade... First home buyers, investors and downsizers, it is time to get excited!!! This property is priced exceptionally well, so don't delay and be sure to call today to arrange your inspection.

Lovingly maintained by its current owners, this home is neat and complete, offering 3 well-appointed bedrooms, refurbished kitchen, including stone benchtops and updated appliances,  single lock up garage plus extra carport for further off street parking, all within a full fenced low maintenance and level allotment. Walking distance to the outstanding Manly Esplanade, rail and bus transport links directly to the Brisbane CBD, and close proximity to highly regarded private and public schools; you have everything you could ever need at your fingertips!

With National Media outlets all declaring that Brisbane's Bayside is the next big 'hot spot', jump on board and grab this opportunity with both hands, you won't regret it! Call Zoe Galicic of The Gill Team today to arrange your inspection and purchase this home today!  Get ready, get set... go!!!

LAST-MODIFIED:20260425T015947
DTSTAMP:20260425T015947
DTSTART;TZID=Australia/:19700101T100000
LOCATION:119 Whites Road MANLY WEST QLD 4179
URL:http://www.remaxadvantage.com.au/20421499
SEQUENCE:0
END:VEVENT
END:VCALENDAR
