BEGIN:VCALENDAR
VERSION:2.0
PRODID:-//Apple Inc.//iCal 5.0.2//EN
CALSCALE:GREGORIAN
BEGIN:VTIMEZONE
TZID:Australia/
BEGIN:STANDARD
TZOFFSETFROM:+1100
RRULE:FREQ=YEARLY;BYMONTH=4;BYDAY=1SU
DTSTART:20080406T030000
TZNAME:
TZOFFSETTO:+
END:STANDARD
BEGIN:DAYLIGHT
TZOFFSETFROM:+
RRULE:FREQ=YEARLY;BYMONTH=10;BYDAY=1SU
DTSTART:20081005T020000
TZNAME:AEDT
TZOFFSETTO:+1100
END:DAYLIGHT
END:VTIMEZONE
BEGIN:VEVENT
CREATED:20260425T015946
UID:Property20373723Inspection52744303
DTEND;TZID=Australia/:20200229T113000
TRANSP:OPAQUE
SUMMARY:Open For Inspection: 7/22 Bay Terrace, Wynnum
DESCRIPTION:Stunning Ground Floor Apartment - Everything At Your Fingertips! - *Inspection By Appointment - Contact Agent to arrange.*

Live the cosmopolitan lifestyle in this newly renovated, ground floor apartment in the heart of Wynnum. This secure complex in the heart of the Bay Terrace Precinct is walking distance to everything the Bayside has to offer and is ready for new owners. Seller's instructions are clear - Inspect this home today and Submit Your Offer!

This beautiful 2 bedroom, 2 bathroom apartment privately tucked away at the rear of the complex exudes peace and privacy. Screened with Crimsafe throughout and silk blinds adorning all windows, no expense has been spared. Offering luxurious finishes and fixtures including Bosch appliances, Grohe tapware, custom made cabinetry, ideal built in study nook, air-conditioning and ceiling fans throughout, and with the addition of the generous entertaining deck, only further adds to the spaciousness of this perfect oasis and private sanctuary! This stunning apartment will leave you wanting for nothing...

Flat walking into the main strip of Wynnum and so close to all the amenities like the glistening Esplanade, train and bus links with direct access into the Brisbane CBD, gateway motorway, airport, local and major shopping centres and so much more! If entertaining is for you, retreat with friends and family to the stunning rooftop terrace offering panoramic views of Moreton Bay...

Ground floor apartments are highly sought after and 7/22 Bay Terrace has been meticulously maintained, impeccably presented and ready for new owners... contact The Gill Team today to arrange your inspection and submit your offer now!

LAST-MODIFIED:20260425T015946
DTSTAMP:20260425T015946
DTSTART;TZID=Australia/:20200229T110000
LOCATION:7/22 Bay Terrace Wynnum QLD 4178
URL:http://www.remaxadvantage.com.au/20373723
SEQUENCE:0
END:VEVENT
END:VCALENDAR
