BEGIN:VCALENDAR
VERSION:2.0
PRODID:-//Apple Inc.//iCal 5.0.2//EN
CALSCALE:GREGORIAN
BEGIN:VTIMEZONE
TZID:Australia/
BEGIN:STANDARD
TZOFFSETFROM:+1100
RRULE:FREQ=YEARLY;BYMONTH=4;BYDAY=1SU
DTSTART:20080406T030000
TZNAME:
TZOFFSETTO:+
END:STANDARD
BEGIN:DAYLIGHT
TZOFFSETFROM:+
RRULE:FREQ=YEARLY;BYMONTH=10;BYDAY=1SU
DTSTART:20081005T020000
TZNAME:AEDT
TZOFFSETTO:+1100
END:DAYLIGHT
END:VTIMEZONE
BEGIN:VEVENT
CREATED:20260425T021930
UID:Property20404526Inspection52745564
DTEND;TZID=Australia/:20200229T103000
TRANSP:OPAQUE
SUMMARY:Open For Inspection: 16/2018 Wynnum Rd, Wynnum West
DESCRIPTION:'Wynnum Gardens' Ground Level Unit, Priced To Sell - ( View Sat 10am ) - Great Location - Modern tones are offered by the luxuriant carpet and light cool tiles and walls. The body corporate fees for this unit are among the lowest in Brisbane. If you are looking for a great value buy in this market then this unit is for you. No extra work to be done here - just move straight in. Private, practical and very low maintenance, this residence provides a superb opportunity to enter the local market and is ideal for first home buyers, downsizers and investors. 

The living areas are finished with new timber look floors and recessed down-lights. There are 2 generous bedrooms, carpeted, both with built in wardrobes and ceiling fans. It's always nice to save time, and now you can reclaim your weekends without yard and garden maintenance. Highlights:

•	So close to shops and bus, to make commuting a breeze.
•	Open plan, airy with plenty of natural light, ceiling fan
•	Neat and tidy kitchen with ample storage, electric stove, pantry
•	Compact light filled bathroom, Separate laundry 
•	Rear outdoor retreat area for quiet time
•	Fully security screened unit, fenced and private courtyard on entry 
•	Ceiling fans throughout, insulated colorbond roof, refreshing bay breezes
•	Carport for 1 car and onsite visitor parking, Inground Pool to beat the heat  

This attractive residence presents in "as new" condition. Simply lock it up and go for your next holiday  Call Jan Mahon to inspect for yourself.

LAST-MODIFIED:20260425T021930
DTSTAMP:20260425T021930
DTSTART;TZID=Australia/:20200229T100000
LOCATION:16/2018 Wynnum Rd Wynnum West QLD 4178
URL:http://www.remaxadvantage.com.au/20404526
SEQUENCE:0
END:VEVENT
END:VCALENDAR
